BEGIN:VCALENDAR
VERSION:2.0
PRODID:-//fahrschule-alkoven.at - ECPv6.11.2//NONSGML v1.0//EN
CALSCALE:GREGORIAN
METHOD:PUBLISH
X-ORIGINAL-URL:https://www.fahrschule-alkoven.at
X-WR-CALDESC:Veranstaltungen für fahrschule-alkoven.at
REFRESH-INTERVAL;VALUE=DURATION:PT1H
X-Robots-Tag:noindex
X-PUBLISHED-TTL:PT1H
BEGIN:VTIMEZONE
TZID:Europe/Berlin
BEGIN:DAYLIGHT
TZOFFSETFROM:+0100
TZOFFSETTO:+0200
TZNAME:CEST
DTSTART:20270328T010000
END:DAYLIGHT
BEGIN:STANDARD
TZOFFSETFROM:+0200
TZOFFSETTO:+0100
TZNAME:CET
DTSTART:20271031T010000
END:STANDARD
END:VTIMEZONE
BEGIN:VEVENT
DTSTART;VALUE=DATE:20270901
DTEND;VALUE=DATE:20270902
DTSTAMP:20260423T001742
CREATED:20250226T095454Z
LAST-MODIFIED:20250313T073346Z
UID:10005400-1819756800-1819843199@www.fahrschule-alkoven.at
SUMMARY:Praxis Prüfungstermin
DESCRIPTION:
URL:https://www.fahrschule-alkoven.at/event/pruefungstermin-praxis-2/2027-09-01/
CATEGORIES:Prüfungstermin Praxis
END:VEVENT
BEGIN:VEVENT
DTSTART;VALUE=DATE:20270915
DTEND;VALUE=DATE:20270916
DTSTAMP:20260423T001742
CREATED:20250226T095454Z
LAST-MODIFIED:20250313T073346Z
UID:10005401-1820966400-1821052799@www.fahrschule-alkoven.at
SUMMARY:Praxis Prüfungstermin
DESCRIPTION:
URL:https://www.fahrschule-alkoven.at/event/pruefungstermin-praxis-2/2027-09-15/
CATEGORIES:Prüfungstermin Praxis
END:VEVENT
BEGIN:VEVENT
DTSTART;VALUE=DATE:20270929
DTEND;VALUE=DATE:20270930
DTSTAMP:20260423T001742
CREATED:20250226T095454Z
LAST-MODIFIED:20250313T073346Z
UID:10005402-1822176000-1822262399@www.fahrschule-alkoven.at
SUMMARY:Praxis Prüfungstermin
DESCRIPTION:
URL:https://www.fahrschule-alkoven.at/event/pruefungstermin-praxis-2/2027-09-29/
CATEGORIES:Prüfungstermin Praxis
END:VEVENT
END:VCALENDAR