BEGIN:VCALENDAR
VERSION:2.0
PRODID:-//fahrschule-alkoven.at - ECPv6.11.2//NONSGML v1.0//EN
CALSCALE:GREGORIAN
METHOD:PUBLISH
X-WR-CALNAME:fahrschule-alkoven.at
X-ORIGINAL-URL:https://www.fahrschule-alkoven.at
X-WR-CALDESC:Veranstaltungen für fahrschule-alkoven.at
REFRESH-INTERVAL;VALUE=DURATION:PT1H
X-Robots-Tag:noindex
X-PUBLISHED-TTL:PT1H
BEGIN:VTIMEZONE
TZID:Europe/Berlin
BEGIN:DAYLIGHT
TZOFFSETFROM:+0100
TZOFFSETTO:+0200
TZNAME:CEST
DTSTART:20260329T010000
END:DAYLIGHT
BEGIN:STANDARD
TZOFFSETFROM:+0200
TZOFFSETTO:+0100
TZNAME:CET
DTSTART:20261025T010000
END:STANDARD
END:VTIMEZONE
BEGIN:VEVENT
DTSTART;TZID=Europe/Berlin:20261103T180000
DTEND;TZID=Europe/Berlin:20261103T203000
DTSTAMP:20260422T103500
CREATED:20251029T142432Z
LAST-MODIFIED:20251029T152228Z
UID:10006756-1793728800-1793737800@www.fahrschule-alkoven.at
SUMMARY:Auto
DESCRIPTION:4 Wochen – Kurs
URL:https://www.fahrschule-alkoven.at/event/auto-67/2026-11-03/
CATEGORIES:Auto
END:VEVENT
BEGIN:VEVENT
DTSTART;TZID=Europe/Berlin:20261104T180000
DTEND;TZID=Europe/Berlin:20261104T203000
DTSTAMP:20260422T103500
CREATED:20251029T142432Z
LAST-MODIFIED:20251029T152228Z
UID:10006753-1793815200-1793824200@www.fahrschule-alkoven.at
SUMMARY:Auto
DESCRIPTION:4 Wochen – Kurs
URL:https://www.fahrschule-alkoven.at/event/auto-67/2026-11-04/
CATEGORIES:Auto
END:VEVENT
BEGIN:VEVENT
DTSTART;TZID=Europe/Berlin:20261105T180000
DTEND;TZID=Europe/Berlin:20261105T194000
DTSTAMP:20260422T103500
CREATED:20251029T142432Z
LAST-MODIFIED:20251029T152228Z
UID:10006762-1793901600-1793907600@www.fahrschule-alkoven.at
SUMMARY:Auto
DESCRIPTION:4 Wochen – Kurs
URL:https://www.fahrschule-alkoven.at/event/auto-67/2026-11-05/
CATEGORIES:Auto
END:VEVENT
BEGIN:VEVENT
DTSTART;TZID=Europe/Berlin:20261110T180000
DTEND;TZID=Europe/Berlin:20261110T203000
DTSTAMP:20260422T103500
CREATED:20251029T142432Z
LAST-MODIFIED:20251029T152228Z
UID:10006757-1794333600-1794342600@www.fahrschule-alkoven.at
SUMMARY:Auto
DESCRIPTION:4 Wochen – Kurs
URL:https://www.fahrschule-alkoven.at/event/auto-67/2026-11-10/
CATEGORIES:Auto
END:VEVENT
BEGIN:VEVENT
DTSTART;VALUE=DATE:20261111
DTEND;VALUE=DATE:20261112
DTSTAMP:20260422T103500
CREATED:20250226T095454Z
LAST-MODIFIED:20250313T073346Z
UID:10005379-1794355200-1794441599@www.fahrschule-alkoven.at
SUMMARY:Praxis Prüfungstermin
DESCRIPTION:
URL:https://www.fahrschule-alkoven.at/event/pruefungstermin-praxis-2/2026-11-11/
CATEGORIES:Prüfungstermin Praxis
END:VEVENT
BEGIN:VEVENT
DTSTART;TZID=Europe/Berlin:20261111T180000
DTEND;TZID=Europe/Berlin:20261111T203000
DTSTAMP:20260422T103500
CREATED:20251112T092316Z
LAST-MODIFIED:20251112T092316Z
UID:10006799-1794420000-1794429000@www.fahrschule-alkoven.at
SUMMARY:Anhänger
DESCRIPTION:1 Kursabend \nEzuB\, Code 96
URL:https://www.fahrschule-alkoven.at/event/anhaenger-15/
CATEGORIES:Anhänger
END:VEVENT
BEGIN:VEVENT
DTSTART;TZID=Europe/Berlin:20261112T180000
DTEND;TZID=Europe/Berlin:20261112T203000
DTSTAMP:20260422T103500
CREATED:20251029T142432Z
LAST-MODIFIED:20251029T152228Z
UID:10006758-1794506400-1794515400@www.fahrschule-alkoven.at
SUMMARY:Auto
DESCRIPTION:4 Wochen – Kurs
URL:https://www.fahrschule-alkoven.at/event/auto-67/2026-11-12/
CATEGORIES:Auto
END:VEVENT
BEGIN:VEVENT
DTSTART;TZID=Europe/Berlin:20261117T180000
DTEND;TZID=Europe/Berlin:20261117T203000
DTSTAMP:20260422T103500
CREATED:20251029T142432Z
LAST-MODIFIED:20251029T152228Z
UID:10006759-1794938400-1794947400@www.fahrschule-alkoven.at
SUMMARY:Auto
DESCRIPTION:4 Wochen – Kurs
URL:https://www.fahrschule-alkoven.at/event/auto-67/2026-11-17/
CATEGORIES:Auto
END:VEVENT
BEGIN:VEVENT
DTSTART;TZID=Europe/Berlin:20261119T180000
DTEND;TZID=Europe/Berlin:20261119T203000
DTSTAMP:20260422T103500
CREATED:20251029T151723Z
LAST-MODIFIED:20251029T151723Z
UID:10006760-1795111200-1795120200@www.fahrschule-alkoven.at
SUMMARY:Auto Kursende
DESCRIPTION:4 Wochen – Kurs
URL:https://www.fahrschule-alkoven.at/event/auto-kursende-16/
LOCATION:Fahrschule Alkoven\, Hochfeldstraße 1\, Alkoven\, 4072
CATEGORIES:Auto
END:VEVENT
BEGIN:VEVENT
DTSTART;VALUE=DATE:20261125
DTEND;VALUE=DATE:20261126
DTSTAMP:20260422T103500
CREATED:20250226T095454Z
LAST-MODIFIED:20250313T073346Z
UID:10005380-1795564800-1795651199@www.fahrschule-alkoven.at
SUMMARY:Praxis Prüfungstermin
DESCRIPTION:
URL:https://www.fahrschule-alkoven.at/event/pruefungstermin-praxis-2/2026-11-25/
CATEGORIES:Prüfungstermin Praxis
END:VEVENT
END:VCALENDAR