BEGIN:VCALENDAR
VERSION:2.0
PRODID:-//fahrschule-alkoven.at - ECPv6.11.2//NONSGML v1.0//EN
CALSCALE:GREGORIAN
METHOD:PUBLISH
X-WR-CALNAME:fahrschule-alkoven.at
X-ORIGINAL-URL:https://www.fahrschule-alkoven.at
X-WR-CALDESC:Veranstaltungen für fahrschule-alkoven.at
REFRESH-INTERVAL;VALUE=DURATION:PT1H
X-Robots-Tag:noindex
X-PUBLISHED-TTL:PT1H
BEGIN:VTIMEZONE
TZID:Europe/Berlin
BEGIN:DAYLIGHT
TZOFFSETFROM:+0100
TZOFFSETTO:+0200
TZNAME:CEST
DTSTART:20260329T010000
END:DAYLIGHT
BEGIN:STANDARD
TZOFFSETFROM:+0200
TZOFFSETTO:+0100
TZNAME:CET
DTSTART:20261025T010000
END:STANDARD
END:VTIMEZONE
BEGIN:VEVENT
DTSTART;VALUE=DATE:20260101
DTEND;VALUE=DATE:20260102
DTSTAMP:20260419T150224
CREATED:20250312T083947Z
LAST-MODIFIED:20250312T083947Z
UID:10005559-1767225600-1767311999@www.fahrschule-alkoven.at
SUMMARY:Geschlossen
DESCRIPTION:  \n 
URL:https://www.fahrschule-alkoven.at/event/geschlossen-8/
LOCATION:Fahrschule Alkoven\, Hochfeldstraße 1\, Alkoven\, 4072
CATEGORIES:GESCHLOSSEN
END:VEVENT
BEGIN:VEVENT
DTSTART;TZID=Europe/Berlin:20260102T163000
DTEND;TZID=Europe/Berlin:20260102T195000
DTSTAMP:20260419T150224
CREATED:20250313T072833Z
LAST-MODIFIED:20250313T072833Z
UID:10005605-1767371400-1767383400@www.fahrschule-alkoven.at
SUMMARY:Auto
DESCRIPTION:Schnellkurs \n 
URL:https://www.fahrschule-alkoven.at/event/auto-42/
LOCATION:Fahrschule Alkoven\, Hochfeldstraße 1\, Alkoven\, 4072
CATEGORIES:Auto
END:VEVENT
BEGIN:VEVENT
DTSTART;TZID=Europe/Berlin:20260105T163000
DTEND;TZID=Europe/Berlin:20260105T195000
DTSTAMP:20260419T150224
CREATED:20250312T085346Z
LAST-MODIFIED:20250313T072910Z
UID:10005569-1767630600-1767642600@www.fahrschule-alkoven.at
SUMMARY:Auto
DESCRIPTION:Schnellkurs \n 
URL:https://www.fahrschule-alkoven.at/event/auto-44/
LOCATION:Fahrschule Alkoven\, Hochfeldstraße 1\, Alkoven\, 4072
CATEGORIES:Auto
END:VEVENT
BEGIN:VEVENT
DTSTART;VALUE=DATE:20260106
DTEND;VALUE=DATE:20260107
DTSTAMP:20260419T150224
CREATED:20250313T073039Z
LAST-MODIFIED:20250313T073039Z
UID:10005606-1767657600-1767743999@www.fahrschule-alkoven.at
SUMMARY:Geschlossen
DESCRIPTION:  \n 
URL:https://www.fahrschule-alkoven.at/event/geschlossen-11/
LOCATION:Fahrschule Alkoven\, Hochfeldstraße 1\, Alkoven\, 4072
CATEGORIES:GESCHLOSSEN
END:VEVENT
BEGIN:VEVENT
DTSTART;VALUE=DATE:20260107
DTEND;VALUE=DATE:20260108
DTSTAMP:20260419T150224
CREATED:20250226T095454Z
LAST-MODIFIED:20250313T073346Z
UID:10005357-1767744000-1767830399@www.fahrschule-alkoven.at
SUMMARY:Praxis Prüfungstermin
DESCRIPTION:
URL:https://www.fahrschule-alkoven.at/event/pruefungstermin-praxis-2/2026-01-07/
CATEGORIES:Prüfungstermin Praxis
END:VEVENT
BEGIN:VEVENT
DTSTART;TZID=Europe/Berlin:20260107T180000
DTEND;TZID=Europe/Berlin:20260107T203000
DTSTAMP:20260419T150224
CREATED:20250903T142402Z
LAST-MODIFIED:20250903T142402Z
UID:10005698-1767808800-1767817800@www.fahrschule-alkoven.at
SUMMARY:Motorrad
DESCRIPTION:Teil 1
URL:https://www.fahrschule-alkoven.at/event/motorrad-12/
LOCATION:Fahrschule Alkoven\, Hochfeldstraße 1\, Alkoven\, 4072
CATEGORIES:Motorrad
END:VEVENT
BEGIN:VEVENT
DTSTART;TZID=Europe/Berlin:20260109T160000
DTEND;TZID=Europe/Berlin:20260109T183000
DTSTAMP:20260419T150224
CREATED:20250903T142509Z
LAST-MODIFIED:20250903T142509Z
UID:10005699-1767974400-1767983400@www.fahrschule-alkoven.at
SUMMARY:Motorrad
DESCRIPTION:Teil 2
URL:https://www.fahrschule-alkoven.at/event/motorrad-13/
LOCATION:Fahrschule Alkoven\, Hochfeldstraße 1\, Alkoven\, 4072
CATEGORIES:Motorrad
END:VEVENT
BEGIN:VEVENT
DTSTART;TZID=Europe/Berlin:20260112T130000
DTEND;TZID=Europe/Berlin:20260112T160000
DTSTAMP:20260419T150224
CREATED:20250730T074336Z
LAST-MODIFIED:20250730T074336Z
UID:10005686-1768222800-1768233600@www.fahrschule-alkoven.at
SUMMARY:Theorie Prüfungstermin
DESCRIPTION:
URL:https://www.fahrschule-alkoven.at/event/theorie-pruefungstermin-2/2026-01-12/
CATEGORIES:Prüfungstermin Theorie
END:VEVENT
BEGIN:VEVENT
DTSTART;TZID=Europe/Berlin:20260113T180000
DTEND;TZID=Europe/Berlin:20260113T203000
DTSTAMP:20260419T150224
CREATED:20250730T071757Z
LAST-MODIFIED:20250730T071757Z
UID:10005623-1768327200-1768336200@www.fahrschule-alkoven.at
SUMMARY:Auto Kursstart
DESCRIPTION:5 Wo-Kurs / DI u. DO / 18:00 – 20:30 Uhr
URL:https://www.fahrschule-alkoven.at/event/auto-kursstart-5/
LOCATION:Fahrschule Alkoven\, Hochfeldstraße 1\, Alkoven\, 4072
CATEGORIES:Auto
END:VEVENT
BEGIN:VEVENT
DTSTART;TZID=Europe/Berlin:20260114T180000
DTEND;TZID=Europe/Berlin:20260114T203000
DTSTAMP:20260419T150224
CREATED:20251105T095935Z
LAST-MODIFIED:20251105T095935Z
UID:10006786-1768413600-1768422600@www.fahrschule-alkoven.at
SUMMARY:Anhänger
DESCRIPTION:1 Kursabend \nEzuB\, Code 96
URL:https://www.fahrschule-alkoven.at/event/anhaenger-10/
CATEGORIES:Anhänger
END:VEVENT
BEGIN:VEVENT
DTSTART;TZID=Europe/Berlin:20260115T180000
DTEND;TZID=Europe/Berlin:20260115T203000
DTSTAMP:20260419T150224
CREATED:20250730T072316Z
LAST-MODIFIED:20250730T072316Z
UID:10005628-1768500000-1768509000@www.fahrschule-alkoven.at
SUMMARY:Auto
DESCRIPTION:5 Wo-Kurse  / 18.00 – 20.30 Uhr \n 
URL:https://www.fahrschule-alkoven.at/event/auto-46/2026-01-15/
LOCATION:Fahrschule Alkoven\, Hochfeldstraße 1\, Alkoven\, 4072
CATEGORIES:Auto
END:VEVENT
BEGIN:VEVENT
DTSTART;TZID=Europe/Berlin:20260119T180000
DTEND;TZID=Europe/Berlin:20260119T194000
DTSTAMP:20260419T150224
CREATED:20251105T095446Z
LAST-MODIFIED:20251105T095446Z
UID:10006780-1768845600-1768851600@www.fahrschule-alkoven.at
SUMMARY:Traktor
DESCRIPTION:Teil 1
URL:https://www.fahrschule-alkoven.at/event/traktor-13/
LOCATION:Fahrschule Alkoven\, Hochfeldstraße 1\, Alkoven\, 4072
CATEGORIES:Traktor
END:VEVENT
BEGIN:VEVENT
DTSTART;TZID=Europe/Berlin:20260120T180000
DTEND;TZID=Europe/Berlin:20260120T203000
DTSTAMP:20260419T150224
CREATED:20250730T072316Z
LAST-MODIFIED:20250730T072316Z
UID:10005629-1768932000-1768941000@www.fahrschule-alkoven.at
SUMMARY:Auto
DESCRIPTION:5 Wo-Kurse  / 18.00 – 20.30 Uhr \n 
URL:https://www.fahrschule-alkoven.at/event/auto-46/2026-01-20/
LOCATION:Fahrschule Alkoven\, Hochfeldstraße 1\, Alkoven\, 4072
CATEGORIES:Auto
END:VEVENT
BEGIN:VEVENT
DTSTART;VALUE=DATE:20260121
DTEND;VALUE=DATE:20260122
DTSTAMP:20260419T150224
CREATED:20250226T095454Z
LAST-MODIFIED:20250313T073346Z
UID:10005358-1768953600-1769039999@www.fahrschule-alkoven.at
SUMMARY:Praxis Prüfungstermin
DESCRIPTION:
URL:https://www.fahrschule-alkoven.at/event/pruefungstermin-praxis-2/2026-01-21/
CATEGORIES:Prüfungstermin Praxis
END:VEVENT
BEGIN:VEVENT
DTSTART;TZID=Europe/Berlin:20260121T180000
DTEND;TZID=Europe/Berlin:20260121T194000
DTSTAMP:20260419T150224
CREATED:20251105T095515Z
LAST-MODIFIED:20251105T095515Z
UID:10006781-1769018400-1769024400@www.fahrschule-alkoven.at
SUMMARY:Traktor
DESCRIPTION:Teil 2
URL:https://www.fahrschule-alkoven.at/event/traktor-14/
LOCATION:Fahrschule Alkoven\, Hochfeldstraße 1\, Alkoven\, 4072
CATEGORIES:Traktor
END:VEVENT
BEGIN:VEVENT
DTSTART;TZID=Europe/Berlin:20260122T180000
DTEND;TZID=Europe/Berlin:20260122T203000
DTSTAMP:20260419T150224
CREATED:20250730T072316Z
LAST-MODIFIED:20250730T072316Z
UID:10005630-1769104800-1769113800@www.fahrschule-alkoven.at
SUMMARY:Auto
DESCRIPTION:5 Wo-Kurse  / 18.00 – 20.30 Uhr \n 
URL:https://www.fahrschule-alkoven.at/event/auto-46/2026-01-22/
LOCATION:Fahrschule Alkoven\, Hochfeldstraße 1\, Alkoven\, 4072
CATEGORIES:Auto
END:VEVENT
BEGIN:VEVENT
DTSTART;TZID=Europe/Berlin:20260126T130000
DTEND;TZID=Europe/Berlin:20260126T160000
DTSTAMP:20260419T150224
CREATED:20250730T074336Z
LAST-MODIFIED:20250730T074336Z
UID:10005687-1769432400-1769443200@www.fahrschule-alkoven.at
SUMMARY:Theorie Prüfungstermin
DESCRIPTION:
URL:https://www.fahrschule-alkoven.at/event/theorie-pruefungstermin-2/2026-01-26/
CATEGORIES:Prüfungstermin Theorie
END:VEVENT
BEGIN:VEVENT
DTSTART;TZID=Europe/Berlin:20260127T180000
DTEND;TZID=Europe/Berlin:20260127T203000
DTSTAMP:20260419T150224
CREATED:20250730T072316Z
LAST-MODIFIED:20250730T072316Z
UID:10005631-1769536800-1769545800@www.fahrschule-alkoven.at
SUMMARY:Auto
DESCRIPTION:5 Wo-Kurse  / 18.00 – 20.30 Uhr \n 
URL:https://www.fahrschule-alkoven.at/event/auto-46/2026-01-27/
LOCATION:Fahrschule Alkoven\, Hochfeldstraße 1\, Alkoven\, 4072
CATEGORIES:Auto
END:VEVENT
BEGIN:VEVENT
DTSTART;TZID=Europe/Berlin:20260128T180000
DTEND;TZID=Europe/Berlin:20260128T203000
DTSTAMP:20260419T150224
CREATED:20250730T072316Z
LAST-MODIFIED:20250730T072316Z
UID:10005632-1769623200-1769632200@www.fahrschule-alkoven.at
SUMMARY:Auto
DESCRIPTION:5 Wo-Kurse  / 18.00 – 20.30 Uhr \n 
URL:https://www.fahrschule-alkoven.at/event/auto-46/2026-01-28/
LOCATION:Fahrschule Alkoven\, Hochfeldstraße 1\, Alkoven\, 4072
CATEGORIES:Auto
END:VEVENT
BEGIN:VEVENT
DTSTART;TZID=Europe/Berlin:20260129T180000
DTEND;TZID=Europe/Berlin:20260129T203000
DTSTAMP:20260419T150224
CREATED:20250730T072316Z
LAST-MODIFIED:20250730T072316Z
UID:10005633-1769709600-1769718600@www.fahrschule-alkoven.at
SUMMARY:Auto
DESCRIPTION:5 Wo-Kurse  / 18.00 – 20.30 Uhr \n 
URL:https://www.fahrschule-alkoven.at/event/auto-46/2026-01-29/
LOCATION:Fahrschule Alkoven\, Hochfeldstraße 1\, Alkoven\, 4072
CATEGORIES:Auto
END:VEVENT
END:VCALENDAR