BEGIN:VCALENDAR
VERSION:2.0
PRODID:-//fahrschule-alkoven.at - ECPv6.11.2//NONSGML v1.0//EN
CALSCALE:GREGORIAN
METHOD:PUBLISH
X-WR-CALNAME:fahrschule-alkoven.at
X-ORIGINAL-URL:https://www.fahrschule-alkoven.at
X-WR-CALDESC:Veranstaltungen für fahrschule-alkoven.at
REFRESH-INTERVAL;VALUE=DURATION:PT1H
X-Robots-Tag:noindex
X-PUBLISHED-TTL:PT1H
BEGIN:VTIMEZONE
TZID:Europe/Berlin
BEGIN:DAYLIGHT
TZOFFSETFROM:+0100
TZOFFSETTO:+0200
TZNAME:CEST
DTSTART:20250330T010000
END:DAYLIGHT
BEGIN:STANDARD
TZOFFSETFROM:+0200
TZOFFSETTO:+0100
TZNAME:CET
DTSTART:20251026T010000
END:STANDARD
END:VTIMEZONE
BEGIN:VEVENT
DTSTART;TZID=Europe/Berlin:20251103T133000
DTEND;TZID=Europe/Berlin:20251103T170000
DTSTAMP:20260419T180507
CREATED:20250917T090523Z
LAST-MODIFIED:20250917T090523Z
UID:10005715-1762176600-1762189200@www.fahrschule-alkoven.at
SUMMARY:Theorie Prüfungstermin
DESCRIPTION:
URL:https://www.fahrschule-alkoven.at/event/theorie-pruefungstermin-3/2025-11-03/
CATEGORIES:Prüfungstermin Theorie
END:VEVENT
BEGIN:VEVENT
DTSTART;TZID=Europe/Berlin:20251103T180000
DTEND;TZID=Europe/Berlin:20251103T203000
DTSTAMP:20260419T180507
CREATED:20250903T085627Z
LAST-MODIFIED:20250903T085627Z
UID:10005696-1762192800-1762201800@www.fahrschule-alkoven.at
SUMMARY:Motorrad
DESCRIPTION:Teil 1
URL:https://www.fahrschule-alkoven.at/event/motorrad-10/
LOCATION:Fahrschule Alkoven\, Hochfeldstraße 1\, Alkoven\, 4072
CATEGORIES:Motorrad
END:VEVENT
BEGIN:VEVENT
DTSTART;TZID=Europe/Berlin:20251104T180000
DTEND;TZID=Europe/Berlin:20251104T203000
DTSTAMP:20260419T180507
CREATED:20241212T141319Z
LAST-MODIFIED:20250313T071905Z
UID:10005315-1762279200-1762288200@www.fahrschule-alkoven.at
SUMMARY:Auto
DESCRIPTION:Kurs \n 
URL:https://www.fahrschule-alkoven.at/event/auto-38/2025-11-04/
LOCATION:Fahrschule Alkoven\, Hochfeldstraße 1\, Alkoven\, 4072
CATEGORIES:Auto
END:VEVENT
BEGIN:VEVENT
DTSTART;TZID=Europe/Berlin:20251105T180000
DTEND;TZID=Europe/Berlin:20251105T203000
DTSTAMP:20260419T180507
CREATED:20250903T085645Z
LAST-MODIFIED:20250903T085645Z
UID:10005697-1762365600-1762374600@www.fahrschule-alkoven.at
SUMMARY:Motorrad
DESCRIPTION:Teil 2
URL:https://www.fahrschule-alkoven.at/event/motorrad-11/
LOCATION:Fahrschule Alkoven\, Hochfeldstraße 1\, Alkoven\, 4072
CATEGORIES:Motorrad
END:VEVENT
BEGIN:VEVENT
DTSTART;TZID=Europe/Berlin:20251106T180000
DTEND;TZID=Europe/Berlin:20251106T194000
DTSTAMP:20260419T180507
CREATED:20250313T071953Z
LAST-MODIFIED:20250313T071953Z
UID:10005601-1762452000-1762458000@www.fahrschule-alkoven.at
SUMMARY:Auto
DESCRIPTION:Kurs
URL:https://www.fahrschule-alkoven.at/event/auto-45/
LOCATION:Fahrschule Alkoven\, Hochfeldstraße 1\, Alkoven\, 4072
CATEGORIES:Auto
END:VEVENT
BEGIN:VEVENT
DTSTART;TZID=Europe/Berlin:20251111T180000
DTEND;TZID=Europe/Berlin:20251111T203000
DTSTAMP:20260419T180507
CREATED:20241212T141319Z
LAST-MODIFIED:20250313T071905Z
UID:10005317-1762884000-1762893000@www.fahrschule-alkoven.at
SUMMARY:Auto
DESCRIPTION:Kurs \n 
URL:https://www.fahrschule-alkoven.at/event/auto-38/2025-11-11/
LOCATION:Fahrschule Alkoven\, Hochfeldstraße 1\, Alkoven\, 4072
CATEGORIES:Auto
END:VEVENT
BEGIN:VEVENT
DTSTART;VALUE=DATE:20251112
DTEND;VALUE=DATE:20251113
DTSTAMP:20260419T180507
CREATED:20250226T095454Z
LAST-MODIFIED:20250313T073346Z
UID:10005353-1762905600-1762991999@www.fahrschule-alkoven.at
SUMMARY:Praxis Prüfungstermin
DESCRIPTION:
URL:https://www.fahrschule-alkoven.at/event/pruefungstermin-praxis-2/2025-11-12/
CATEGORIES:Prüfungstermin Praxis
END:VEVENT
BEGIN:VEVENT
DTSTART;TZID=Europe/Berlin:20251112T180000
DTEND;TZID=Europe/Berlin:20251112T194000
DTSTAMP:20260419T180507
CREATED:20250828T115243Z
LAST-MODIFIED:20250828T115243Z
UID:10005695-1762970400-1762976400@www.fahrschule-alkoven.at
SUMMARY:Traktor
DESCRIPTION:Teil 1
URL:https://www.fahrschule-alkoven.at/event/traktor-12/
LOCATION:Fahrschule Alkoven\, Hochfeldstraße 1\, Alkoven\, 4072
CATEGORIES:Traktor
END:VEVENT
BEGIN:VEVENT
DTSTART;TZID=Europe/Berlin:20251113T180000
DTEND;TZID=Europe/Berlin:20251113T203000
DTSTAMP:20260419T180507
CREATED:20241212T141319Z
LAST-MODIFIED:20250313T071905Z
UID:10005318-1763056800-1763065800@www.fahrschule-alkoven.at
SUMMARY:Auto
DESCRIPTION:Kurs \n 
URL:https://www.fahrschule-alkoven.at/event/auto-38/2025-11-13/
LOCATION:Fahrschule Alkoven\, Hochfeldstraße 1\, Alkoven\, 4072
CATEGORIES:Auto
END:VEVENT
BEGIN:VEVENT
DTSTART;TZID=Europe/Berlin:20251117T133000
DTEND;TZID=Europe/Berlin:20251117T170000
DTSTAMP:20260419T180507
CREATED:20250917T090523Z
LAST-MODIFIED:20250917T090523Z
UID:10005716-1763386200-1763398800@www.fahrschule-alkoven.at
SUMMARY:Theorie Prüfungstermin
DESCRIPTION:
URL:https://www.fahrschule-alkoven.at/event/theorie-pruefungstermin-3/2025-11-17/
CATEGORIES:Prüfungstermin Theorie
END:VEVENT
BEGIN:VEVENT
DTSTART;TZID=Europe/Berlin:20251118T180000
DTEND;TZID=Europe/Berlin:20251118T203000
DTSTAMP:20260419T180507
CREATED:20241212T141319Z
LAST-MODIFIED:20250313T071905Z
UID:10005319-1763488800-1763497800@www.fahrschule-alkoven.at
SUMMARY:Auto
DESCRIPTION:Kurs \n 
URL:https://www.fahrschule-alkoven.at/event/auto-38/2025-11-18/
LOCATION:Fahrschule Alkoven\, Hochfeldstraße 1\, Alkoven\, 4072
CATEGORIES:Auto
END:VEVENT
BEGIN:VEVENT
DTSTART;TZID=Europe/Berlin:20251119T180000
DTEND;TZID=Europe/Berlin:20251119T194000
DTSTAMP:20260419T180507
CREATED:20250828T115146Z
LAST-MODIFIED:20250828T115146Z
UID:10005694-1763575200-1763581200@www.fahrschule-alkoven.at
SUMMARY:Traktor
DESCRIPTION:Teil 2
URL:https://www.fahrschule-alkoven.at/event/traktor-10/
LOCATION:Fahrschule Alkoven\, Hochfeldstraße 1\, Alkoven\, 4072
CATEGORIES:Traktor
END:VEVENT
BEGIN:VEVENT
DTSTART;TZID=Europe/Berlin:20251120T180000
DTEND;TZID=Europe/Berlin:20251120T203000
DTSTAMP:20260419T180507
CREATED:20241212T141319Z
LAST-MODIFIED:20250313T071905Z
UID:10005320-1763661600-1763670600@www.fahrschule-alkoven.at
SUMMARY:Auto
DESCRIPTION:Kurs \n 
URL:https://www.fahrschule-alkoven.at/event/auto-38/2025-11-20/
LOCATION:Fahrschule Alkoven\, Hochfeldstraße 1\, Alkoven\, 4072
CATEGORIES:Auto
END:VEVENT
BEGIN:VEVENT
DTSTART;TZID=Europe/Berlin:20251125T180000
DTEND;TZID=Europe/Berlin:20251125T203000
DTSTAMP:20260419T180507
CREATED:20250924T153542Z
LAST-MODIFIED:20250924T153542Z
UID:10005720-1764093600-1764102600@www.fahrschule-alkoven.at
SUMMARY:Anhänger
DESCRIPTION:1 Kursabend \nEzuB\, Code 96
URL:https://www.fahrschule-alkoven.at/event/anhaenger-9/
CATEGORIES:Anhänger
END:VEVENT
BEGIN:VEVENT
DTSTART;VALUE=DATE:20251126
DTEND;VALUE=DATE:20251127
DTSTAMP:20260419T180507
CREATED:20250226T095454Z
LAST-MODIFIED:20250313T073346Z
UID:10005354-1764115200-1764201599@www.fahrschule-alkoven.at
SUMMARY:Praxis Prüfungstermin
DESCRIPTION:
URL:https://www.fahrschule-alkoven.at/event/pruefungstermin-praxis-2/2025-11-26/
CATEGORIES:Prüfungstermin Praxis
END:VEVENT
END:VCALENDAR