BEGIN:VCALENDAR
VERSION:2.0
PRODID:-//fahrschule-alkoven.at - ECPv6.11.2//NONSGML v1.0//EN
CALSCALE:GREGORIAN
METHOD:PUBLISH
X-WR-CALNAME:fahrschule-alkoven.at
X-ORIGINAL-URL:https://www.fahrschule-alkoven.at
X-WR-CALDESC:Veranstaltungen für fahrschule-alkoven.at
REFRESH-INTERVAL;VALUE=DURATION:PT1H
X-Robots-Tag:noindex
X-PUBLISHED-TTL:PT1H
BEGIN:VTIMEZONE
TZID:Europe/Berlin
BEGIN:DAYLIGHT
TZOFFSETFROM:+0100
TZOFFSETTO:+0200
TZNAME:CEST
DTSTART:20250330T010000
END:DAYLIGHT
BEGIN:STANDARD
TZOFFSETFROM:+0200
TZOFFSETTO:+0100
TZNAME:CET
DTSTART:20251026T010000
END:STANDARD
END:VTIMEZONE
BEGIN:VEVENT
DTSTART;VALUE=DATE:20251001
DTEND;VALUE=DATE:20251002
DTSTAMP:20260419T194035
CREATED:20250226T095454Z
LAST-MODIFIED:20250313T073346Z
UID:10005350-1759276800-1759363199@www.fahrschule-alkoven.at
SUMMARY:Praxis Prüfungstermin
DESCRIPTION:
URL:https://www.fahrschule-alkoven.at/event/pruefungstermin-praxis-2/2025-10-01/
CATEGORIES:Prüfungstermin Praxis
END:VEVENT
BEGIN:VEVENT
DTSTART;TZID=Europe/Berlin:20251002T180000
DTEND;TZID=Europe/Berlin:20251002T203000
DTSTAMP:20260419T194035
CREATED:20250313T070628Z
LAST-MODIFIED:20250313T071457Z
UID:10005596-1759428000-1759437000@www.fahrschule-alkoven.at
SUMMARY:Auto
DESCRIPTION:Kurs \n 
URL:https://www.fahrschule-alkoven.at/event/auto-40/2025-10-02/
LOCATION:Fahrschule Alkoven\, Hochfeldstraße 1\, Alkoven\, 4072
CATEGORIES:Auto
END:VEVENT
BEGIN:VEVENT
DTSTART;TZID=Europe/Berlin:20251006T133000
DTEND;TZID=Europe/Berlin:20251006T170000
DTSTAMP:20260419T194035
CREATED:20250917T090523Z
LAST-MODIFIED:20250917T090523Z
UID:10005713-1759757400-1759770000@www.fahrschule-alkoven.at
SUMMARY:Theorie Prüfungstermin
DESCRIPTION:
URL:https://www.fahrschule-alkoven.at/event/theorie-pruefungstermin-3/2025-10-06/
CATEGORIES:Prüfungstermin Theorie
END:VEVENT
BEGIN:VEVENT
DTSTART;TZID=Europe/Berlin:20251007T180000
DTEND;TZID=Europe/Berlin:20251007T203000
DTSTAMP:20260419T194035
CREATED:20250313T070628Z
LAST-MODIFIED:20250313T071457Z
UID:10005597-1759860000-1759869000@www.fahrschule-alkoven.at
SUMMARY:Auto
DESCRIPTION:Kurs \n 
URL:https://www.fahrschule-alkoven.at/event/auto-40/2025-10-07/
LOCATION:Fahrschule Alkoven\, Hochfeldstraße 1\, Alkoven\, 4072
CATEGORIES:Auto
END:VEVENT
BEGIN:VEVENT
DTSTART;TZID=Europe/Berlin:20251009T180000
DTEND;TZID=Europe/Berlin:20251009T203000
DTSTAMP:20260419T194035
CREATED:20250313T070628Z
LAST-MODIFIED:20250313T071457Z
UID:10005598-1760032800-1760041800@www.fahrschule-alkoven.at
SUMMARY:Auto
DESCRIPTION:Kurs \n 
URL:https://www.fahrschule-alkoven.at/event/auto-40/2025-10-09/
LOCATION:Fahrschule Alkoven\, Hochfeldstraße 1\, Alkoven\, 4072
CATEGORIES:Auto
END:VEVENT
BEGIN:VEVENT
DTSTART;TZID=Europe/Berlin:20251014T180000
DTEND;TZID=Europe/Berlin:20251014T203000
DTSTAMP:20260419T194035
CREATED:20250313T070628Z
LAST-MODIFIED:20250313T071457Z
UID:10005599-1760464800-1760473800@www.fahrschule-alkoven.at
SUMMARY:Auto
DESCRIPTION:Kurs \n 
URL:https://www.fahrschule-alkoven.at/event/auto-40/2025-10-14/
LOCATION:Fahrschule Alkoven\, Hochfeldstraße 1\, Alkoven\, 4072
CATEGORIES:Auto
END:VEVENT
BEGIN:VEVENT
DTSTART;VALUE=DATE:20251015
DTEND;VALUE=DATE:20251016
DTSTAMP:20260419T194035
CREATED:20250226T095454Z
LAST-MODIFIED:20250313T073346Z
UID:10005351-1760486400-1760572799@www.fahrschule-alkoven.at
SUMMARY:Praxis Prüfungstermin
DESCRIPTION:
URL:https://www.fahrschule-alkoven.at/event/pruefungstermin-praxis-2/2025-10-15/
CATEGORIES:Prüfungstermin Praxis
END:VEVENT
BEGIN:VEVENT
DTSTART;TZID=Europe/Berlin:20251020T133000
DTEND;TZID=Europe/Berlin:20251020T170000
DTSTAMP:20260419T194035
CREATED:20250917T090523Z
LAST-MODIFIED:20250917T090523Z
UID:10005714-1760967000-1760979600@www.fahrschule-alkoven.at
SUMMARY:Theorie Prüfungstermin
DESCRIPTION:
URL:https://www.fahrschule-alkoven.at/event/theorie-pruefungstermin-3/2025-10-20/
CATEGORIES:Prüfungstermin Theorie
END:VEVENT
BEGIN:VEVENT
DTSTART;TZID=Europe/Berlin:20251027T180000
DTEND;TZID=Europe/Berlin:20251027T203000
DTSTAMP:20260419T194035
CREATED:20241202T093650Z
LAST-MODIFIED:20250313T071637Z
UID:10004781-1761588000-1761597000@www.fahrschule-alkoven.at
SUMMARY:Auto Kursstart
DESCRIPTION:5-Wo-Kurs \n 
URL:https://www.fahrschule-alkoven.at/event/auto-kursstart-7/
LOCATION:Fahrschule Alkoven\, Hochfeldstraße 1\, Alkoven\, 4072
CATEGORIES:Auto
END:VEVENT
BEGIN:VEVENT
DTSTART;TZID=Europe/Berlin:20251027T180000
DTEND;TZID=Europe/Berlin:20251027T203000
DTSTAMP:20260419T194035
CREATED:20241205T154113Z
LAST-MODIFIED:20241205T154113Z
UID:10004784-1761588000-1761597000@www.fahrschule-alkoven.at
SUMMARY:Moped
DESCRIPTION:Teil 1
URL:https://www.fahrschule-alkoven.at/event/moped-14/
LOCATION:Fahrschule Alkoven\, Hochfeldstraße 1\, Alkoven\, 4072
CATEGORIES:Moped
END:VEVENT
BEGIN:VEVENT
DTSTART;TZID=Europe/Berlin:20251028T180000
DTEND;TZID=Europe/Berlin:20251028T203000
DTSTAMP:20260419T194035
CREATED:20241212T142625Z
LAST-MODIFIED:20250312T085802Z
UID:10005330-1761674400-1761683400@www.fahrschule-alkoven.at
SUMMARY:Auto
DESCRIPTION:Kurs \n 
URL:https://www.fahrschule-alkoven.at/event/auto-39/2025-10-28/
LOCATION:Fahrschule Alkoven\, Hochfeldstraße 1\, Alkoven\, 4072
CATEGORIES:Auto
END:VEVENT
BEGIN:VEVENT
DTSTART;VALUE=DATE:20251029
DTEND;VALUE=DATE:20251030
DTSTAMP:20260419T194035
CREATED:20250226T095454Z
LAST-MODIFIED:20250313T073346Z
UID:10005352-1761696000-1761782399@www.fahrschule-alkoven.at
SUMMARY:Praxis Prüfungstermin
DESCRIPTION:
URL:https://www.fahrschule-alkoven.at/event/pruefungstermin-praxis-2/2025-10-29/
CATEGORIES:Prüfungstermin Praxis
END:VEVENT
BEGIN:VEVENT
DTSTART;TZID=Europe/Berlin:20251029T180000
DTEND;TZID=Europe/Berlin:20251029T203000
DTSTAMP:20260419T194035
CREATED:20241205T162459Z
LAST-MODIFIED:20250313T071742Z
UID:10004790-1761760800-1761769800@www.fahrschule-alkoven.at
SUMMARY:Moped
DESCRIPTION:Teil 2
URL:https://www.fahrschule-alkoven.at/event/moped-20/
LOCATION:Fahrschule Alkoven\, Hochfeldstraße 1\, Alkoven\, 4072
CATEGORIES:Moped
END:VEVENT
BEGIN:VEVENT
DTSTART;TZID=Europe/Berlin:20251029T180000
DTEND;TZID=Europe/Berlin:20251029T203000
DTSTAMP:20260419T194035
CREATED:20241212T142625Z
LAST-MODIFIED:20250312T085802Z
UID:10005331-1761760800-1761769800@www.fahrschule-alkoven.at
SUMMARY:Auto
DESCRIPTION:Kurs \n 
URL:https://www.fahrschule-alkoven.at/event/auto-39/2025-10-29/
LOCATION:Fahrschule Alkoven\, Hochfeldstraße 1\, Alkoven\, 4072
CATEGORIES:Auto
END:VEVENT
BEGIN:VEVENT
DTSTART;TZID=Europe/Berlin:20251030T180000
DTEND;TZID=Europe/Berlin:20251030T203000
DTSTAMP:20260419T194035
CREATED:20241212T142625Z
LAST-MODIFIED:20250312T085802Z
UID:10005332-1761847200-1761856200@www.fahrschule-alkoven.at
SUMMARY:Auto
DESCRIPTION:Kurs \n 
URL:https://www.fahrschule-alkoven.at/event/auto-39/2025-10-30/
LOCATION:Fahrschule Alkoven\, Hochfeldstraße 1\, Alkoven\, 4072
CATEGORIES:Auto
END:VEVENT
BEGIN:VEVENT
DTSTART;TZID=Europe/Berlin:20251031T180000
DTEND;TZID=Europe/Berlin:20251031T203000
DTSTAMP:20260419T194035
CREATED:20241212T142625Z
LAST-MODIFIED:20250312T085802Z
UID:10005571-1761933600-1761942600@www.fahrschule-alkoven.at
SUMMARY:Auto
DESCRIPTION:Kurs \n 
URL:https://www.fahrschule-alkoven.at/event/auto-39/2025-10-31/
LOCATION:Fahrschule Alkoven\, Hochfeldstraße 1\, Alkoven\, 4072
CATEGORIES:Auto
END:VEVENT
END:VCALENDAR