BEGIN:VCALENDAR
VERSION:2.0
PRODID:-//fahrschule-alkoven.at - ECPv6.11.2//NONSGML v1.0//EN
CALSCALE:GREGORIAN
METHOD:PUBLISH
X-ORIGINAL-URL:https://www.fahrschule-alkoven.at
X-WR-CALDESC:Veranstaltungen für fahrschule-alkoven.at
REFRESH-INTERVAL;VALUE=DURATION:PT1H
X-Robots-Tag:noindex
X-PUBLISHED-TTL:PT1H
BEGIN:VTIMEZONE
TZID:Europe/Berlin
BEGIN:DAYLIGHT
TZOFFSETFROM:+0100
TZOFFSETTO:+0200
TZNAME:CEST
DTSTART:20250330T010000
END:DAYLIGHT
BEGIN:STANDARD
TZOFFSETFROM:+0200
TZOFFSETTO:+0100
TZNAME:CET
DTSTART:20251026T010000
END:STANDARD
END:VTIMEZONE
BEGIN:VEVENT
DTSTART;TZID=Europe/Berlin:20250602T130000
DTEND;TZID=Europe/Berlin:20250602T160000
DTSTAMP:20260420T014732
CREATED:20250226T100120Z
LAST-MODIFIED:20250917T090351Z
UID:10005477-1748869200-1748880000@www.fahrschule-alkoven.at
SUMMARY:Theorie Prüfungstermin
DESCRIPTION:
URL:https://www.fahrschule-alkoven.at/event/pruefungstermin-theorie-2/2025-06-02/
CATEGORIES:Prüfungstermin Theorie
END:VEVENT
BEGIN:VEVENT
DTSTART;TZID=Europe/Berlin:20250602T180000
DTEND;TZID=Europe/Berlin:20250602T203000
DTSTAMP:20260420T014732
CREATED:20250305T130638Z
LAST-MODIFIED:20250305T130638Z
UID:10005530-1748887200-1748896200@www.fahrschule-alkoven.at
SUMMARY:Moped
DESCRIPTION:Teil 1
URL:https://www.fahrschule-alkoven.at/event/moped-32/
LOCATION:Fahrschule Alkoven\, Hochfeldstraße 1\, Alkoven\, 4072
CATEGORIES:Moped
END:VEVENT
BEGIN:VEVENT
DTSTART;TZID=Europe/Berlin:20250603T180000
DTEND;TZID=Europe/Berlin:20250603T203000
DTSTAMP:20260420T014732
CREATED:20250305T130717Z
LAST-MODIFIED:20250305T130717Z
UID:10005531-1748973600-1748982600@www.fahrschule-alkoven.at
SUMMARY:Moped
DESCRIPTION:Teil 2
URL:https://www.fahrschule-alkoven.at/event/moped-33/
LOCATION:Fahrschule Alkoven\, Hochfeldstraße 1\, Alkoven\, 4072
CATEGORIES:Moped
END:VEVENT
BEGIN:VEVENT
DTSTART;VALUE=DATE:20250609
DTEND;VALUE=DATE:20250610
DTSTAMP:20260420T014732
CREATED:20250305T131048Z
LAST-MODIFIED:20250305T131048Z
UID:10005532-1749427200-1749513599@www.fahrschule-alkoven.at
SUMMARY:Geschlossen
DESCRIPTION:  \n 
URL:https://www.fahrschule-alkoven.at/event/geschlossen-5/
LOCATION:Fahrschule Alkoven\, Hochfeldstraße 1\, Alkoven\, 4072
CATEGORIES:GESCHLOSSEN
END:VEVENT
BEGIN:VEVENT
DTSTART;VALUE=DATE:20250611
DTEND;VALUE=DATE:20250612
DTSTAMP:20260420T014732
CREATED:20250226T095454Z
LAST-MODIFIED:20250313T073346Z
UID:10005342-1749600000-1749686399@www.fahrschule-alkoven.at
SUMMARY:Praxis Prüfungstermin
DESCRIPTION:
URL:https://www.fahrschule-alkoven.at/event/pruefungstermin-praxis-2/2025-06-11/
CATEGORIES:Prüfungstermin Praxis
END:VEVENT
BEGIN:VEVENT
DTSTART;TZID=Europe/Berlin:20250616T130000
DTEND;TZID=Europe/Berlin:20250616T160000
DTSTAMP:20260420T014732
CREATED:20250226T100120Z
LAST-MODIFIED:20250917T090351Z
UID:10005478-1750078800-1750089600@www.fahrschule-alkoven.at
SUMMARY:Theorie Prüfungstermin
DESCRIPTION:
URL:https://www.fahrschule-alkoven.at/event/pruefungstermin-theorie-2/2025-06-16/
CATEGORIES:Prüfungstermin Theorie
END:VEVENT
BEGIN:VEVENT
DTSTART;TZID=Europe/Berlin:20250616T180000
DTEND;TZID=Europe/Berlin:20250616T203000
DTSTAMP:20260420T014732
CREATED:20241121T102055Z
LAST-MODIFIED:20250305T131400Z
UID:10004763-1750096800-1750105800@www.fahrschule-alkoven.at
SUMMARY:Motorrad
DESCRIPTION:Teil 1
URL:https://www.fahrschule-alkoven.at/event/motorrad-7/
LOCATION:Fahrschule Alkoven\, Hochfeldstraße 1\, Alkoven\, 4072
CATEGORIES:Motorrad
END:VEVENT
BEGIN:VEVENT
DTSTART;TZID=Europe/Berlin:20250617T180000
DTEND;TZID=Europe/Berlin:20250617T203000
DTSTAMP:20260420T014732
CREATED:20241121T102702Z
LAST-MODIFIED:20250305T131447Z
UID:10004768-1750183200-1750192200@www.fahrschule-alkoven.at
SUMMARY:Motorrad
DESCRIPTION:Teil 2
URL:https://www.fahrschule-alkoven.at/event/motorrad-14/
LOCATION:Fahrschule Alkoven\, Hochfeldstraße 1\, Alkoven\, 4072
CATEGORIES:Motorrad
END:VEVENT
BEGIN:VEVENT
DTSTART;TZID=Europe/Berlin:20250618T180000
DTEND;TZID=Europe/Berlin:20250618T203000
DTSTAMP:20260420T014732
CREATED:20241120T151437Z
LAST-MODIFIED:20250305T131711Z
UID:10004737-1750269600-1750278600@www.fahrschule-alkoven.at
SUMMARY:Anhänger
DESCRIPTION:1 Kursabend \nEzuB\, Code 96
URL:https://www.fahrschule-alkoven.at/event/anhaenger-8/
CATEGORIES:Anhänger
END:VEVENT
BEGIN:VEVENT
DTSTART;VALUE=DATE:20250619
DTEND;VALUE=DATE:20250620
DTSTAMP:20260420T014732
CREATED:20250305T132243Z
LAST-MODIFIED:20250305T132243Z
UID:10005533-1750291200-1750377599@www.fahrschule-alkoven.at
SUMMARY:Geschlossen
DESCRIPTION:  \n 
URL:https://www.fahrschule-alkoven.at/event/geschlossen-6/
LOCATION:Fahrschule Alkoven\, Hochfeldstraße 1\, Alkoven\, 4072
CATEGORIES:GESCHLOSSEN
END:VEVENT
BEGIN:VEVENT
DTSTART;TZID=Europe/Berlin:20250623T180000
DTEND;TZID=Europe/Berlin:20250623T203000
DTSTAMP:20260420T014732
CREATED:20241202T091848Z
LAST-MODIFIED:20250611T072849Z
UID:10004774-1750701600-1750710600@www.fahrschule-alkoven.at
SUMMARY:Auto Kursstart Schnellkurs
DESCRIPTION:Schnellkurs \n– ausgebucht –
URL:https://www.fahrschule-alkoven.at/event/auto-kursstart-schnellkurs/
LOCATION:Fahrschule Alkoven\, Hochfeldstraße 1\, Alkoven\, 4072
CATEGORIES:Auto
END:VEVENT
BEGIN:VEVENT
DTSTART;TZID=Europe/Berlin:20250623T180000
DTEND;TZID=Europe/Berlin:20250623T203000
DTSTAMP:20260420T014732
CREATED:20241205T153952Z
LAST-MODIFIED:20241205T153952Z
UID:10004782-1750701600-1750710600@www.fahrschule-alkoven.at
SUMMARY:Moped
DESCRIPTION:Teil 1
URL:https://www.fahrschule-alkoven.at/event/moped-12/
LOCATION:Fahrschule Alkoven\, Hochfeldstraße 1\, Alkoven\, 4072
CATEGORIES:Moped
END:VEVENT
BEGIN:VEVENT
DTSTART;TZID=Europe/Berlin:20250624T180000
DTEND;TZID=Europe/Berlin:20250624T203000
DTSTAMP:20260420T014732
CREATED:20241212T115518Z
LAST-MODIFIED:20241218T083709Z
UID:10004833-1750788000-1750797000@www.fahrschule-alkoven.at
SUMMARY:Auto
DESCRIPTION:Schnellkurs
URL:https://www.fahrschule-alkoven.at/event/auto-27/2025-06-24/
LOCATION:Fahrschule Alkoven\, Hochfeldstraße 1\, Alkoven\, 4072
CATEGORIES:Auto
END:VEVENT
BEGIN:VEVENT
DTSTART;VALUE=DATE:20250625
DTEND;VALUE=DATE:20250626
DTSTAMP:20260420T014732
CREATED:20250226T095454Z
LAST-MODIFIED:20250313T073346Z
UID:10005343-1750809600-1750895999@www.fahrschule-alkoven.at
SUMMARY:Praxis Prüfungstermin
DESCRIPTION:
URL:https://www.fahrschule-alkoven.at/event/pruefungstermin-praxis-2/2025-06-25/
CATEGORIES:Prüfungstermin Praxis
END:VEVENT
BEGIN:VEVENT
DTSTART;TZID=Europe/Berlin:20250625T180000
DTEND;TZID=Europe/Berlin:20250625T203000
DTSTAMP:20260420T014732
CREATED:20241205T162835Z
LAST-MODIFIED:20250305T135240Z
UID:10004795-1750874400-1750883400@www.fahrschule-alkoven.at
SUMMARY:Moped
DESCRIPTION:Teil 2
URL:https://www.fahrschule-alkoven.at/event/moped-25/
LOCATION:Fahrschule Alkoven\, Hochfeldstraße 1\, Alkoven\, 4072
CATEGORIES:Moped
END:VEVENT
BEGIN:VEVENT
DTSTART;TZID=Europe/Berlin:20250625T180000
DTEND;TZID=Europe/Berlin:20250625T203000
DTSTAMP:20260420T014732
CREATED:20241212T123126Z
LAST-MODIFIED:20241218T083650Z
UID:10004838-1750874400-1750883400@www.fahrschule-alkoven.at
SUMMARY:Auto
DESCRIPTION:Schnellkurs \n 
URL:https://www.fahrschule-alkoven.at/event/auto-26-2/
LOCATION:Fahrschule Alkoven\, Hochfeldstraße 1\, Alkoven\, 4072
CATEGORIES:Auto
END:VEVENT
BEGIN:VEVENT
DTSTART;TZID=Europe/Berlin:20250626T180000
DTEND;TZID=Europe/Berlin:20250626T203000
DTSTAMP:20260420T014732
CREATED:20241212T123601Z
LAST-MODIFIED:20241218T083639Z
UID:10004840-1750960800-1750969800@www.fahrschule-alkoven.at
SUMMARY:Auto
DESCRIPTION:Schnellkurs \n 
URL:https://www.fahrschule-alkoven.at/event/auto-29/
LOCATION:Fahrschule Alkoven\, Hochfeldstraße 1\, Alkoven\, 4072
CATEGORIES:Auto
END:VEVENT
BEGIN:VEVENT
DTSTART;TZID=Europe/Berlin:20250627T170000
DTEND;TZID=Europe/Berlin:20250627T202000
DTSTAMP:20260420T014732
CREATED:20241212T123429Z
LAST-MODIFIED:20250305T135015Z
UID:10004839-1751043600-1751055600@www.fahrschule-alkoven.at
SUMMARY:Auto
DESCRIPTION:Schnellkurs \n 
URL:https://www.fahrschule-alkoven.at/event/auto-28/
LOCATION:Fahrschule Alkoven\, Hochfeldstraße 1\, Alkoven\, 4072
CATEGORIES:Auto
END:VEVENT
BEGIN:VEVENT
DTSTART;TZID=Europe/Berlin:20250630T130000
DTEND;TZID=Europe/Berlin:20250630T160000
DTSTAMP:20260420T014732
CREATED:20250226T100120Z
LAST-MODIFIED:20250917T090351Z
UID:10005479-1751288400-1751299200@www.fahrschule-alkoven.at
SUMMARY:Theorie Prüfungstermin
DESCRIPTION:
URL:https://www.fahrschule-alkoven.at/event/pruefungstermin-theorie-2/2025-06-30/
CATEGORIES:Prüfungstermin Theorie
END:VEVENT
BEGIN:VEVENT
DTSTART;TZID=Europe/Berlin:20250630T173000
DTEND;TZID=Europe/Berlin:20250630T205000
DTSTAMP:20260420T014732
CREATED:20241212T123908Z
LAST-MODIFIED:20241218T083621Z
UID:10004842-1751304600-1751316600@www.fahrschule-alkoven.at
SUMMARY:Auto
DESCRIPTION:Schnellkurs \n 
URL:https://www.fahrschule-alkoven.at/event/auto-30/2025-06-30/
LOCATION:Fahrschule Alkoven\, Hochfeldstraße 1\, Alkoven\, 4072
CATEGORIES:Auto
END:VEVENT
END:VCALENDAR