BEGIN:VCALENDAR
VERSION:2.0
PRODID:-//fahrschule-alkoven.at - ECPv6.11.2//NONSGML v1.0//EN
CALSCALE:GREGORIAN
METHOD:PUBLISH
X-WR-CALNAME:fahrschule-alkoven.at
X-ORIGINAL-URL:https://www.fahrschule-alkoven.at
X-WR-CALDESC:Veranstaltungen für fahrschule-alkoven.at
REFRESH-INTERVAL;VALUE=DURATION:PT1H
X-Robots-Tag:noindex
X-PUBLISHED-TTL:PT1H
BEGIN:VTIMEZONE
TZID:Europe/Berlin
BEGIN:DAYLIGHT
TZOFFSETFROM:+0100
TZOFFSETTO:+0200
TZNAME:CEST
DTSTART:20250330T010000
END:DAYLIGHT
BEGIN:STANDARD
TZOFFSETFROM:+0200
TZOFFSETTO:+0100
TZNAME:CET
DTSTART:20251026T010000
END:STANDARD
END:VTIMEZONE
BEGIN:VEVENT
DTSTART;VALUE=DATE:20250402
DTEND;VALUE=DATE:20250403
DTSTAMP:20260420T045214
CREATED:20250226T095454Z
LAST-MODIFIED:20250313T073346Z
UID:10005337-1743552000-1743638399@www.fahrschule-alkoven.at
SUMMARY:Praxis Prüfungstermin
DESCRIPTION:
URL:https://www.fahrschule-alkoven.at/event/pruefungstermin-praxis-2/2025-04-02/
CATEGORIES:Prüfungstermin Praxis
END:VEVENT
BEGIN:VEVENT
DTSTART;TZID=Europe/Berlin:20250407T130000
DTEND;TZID=Europe/Berlin:20250407T160000
DTSTAMP:20260420T045214
CREATED:20250226T100120Z
LAST-MODIFIED:20250917T090351Z
UID:10005474-1744030800-1744041600@www.fahrschule-alkoven.at
SUMMARY:Theorie Prüfungstermin
DESCRIPTION:
URL:https://www.fahrschule-alkoven.at/event/pruefungstermin-theorie-2/2025-04-07/
CATEGORIES:Prüfungstermin Theorie
END:VEVENT
BEGIN:VEVENT
DTSTART;TZID=Europe/Berlin:20250407T180000
DTEND;TZID=Europe/Berlin:20250407T203000
DTSTAMP:20260420T045214
CREATED:20241021T085048Z
LAST-MODIFIED:20250326T071059Z
UID:10004693-1744048800-1744057800@www.fahrschule-alkoven.at
SUMMARY:Auto Kursstart
DESCRIPTION:Schnellkurs Ostern \n– ausgebucht –
URL:https://www.fahrschule-alkoven.at/event/auto-kursstart-4/
LOCATION:Fahrschule Alkoven\, Hochfeldstraße 1\, Alkoven\, 4072
CATEGORIES:Auto
END:VEVENT
BEGIN:VEVENT
DTSTART;TZID=Europe/Berlin:20250407T180000
DTEND;TZID=Europe/Berlin:20250407T203000
DTSTAMP:20260420T045214
CREATED:20241021T091414Z
LAST-MODIFIED:20250326T103304Z
UID:10004712-1744048800-1744057800@www.fahrschule-alkoven.at
SUMMARY:Moped
DESCRIPTION:Teil 1 \n– ausgebucht –
URL:https://www.fahrschule-alkoven.at/event/moped-10/
LOCATION:Fahrschule Alkoven\, Hochfeldstraße 1\, Alkoven\, 4072
CATEGORIES:Moped
END:VEVENT
BEGIN:VEVENT
DTSTART;TZID=Europe/Berlin:20250408T180000
DTEND;TZID=Europe/Berlin:20250408T203000
DTSTAMP:20260420T045214
CREATED:20241021T085326Z
LAST-MODIFIED:20250326T071452Z
UID:10004697-1744135200-1744144200@www.fahrschule-alkoven.at
SUMMARY:Auto
DESCRIPTION:Schnellkurs Ostern \n– ausgebucht –
URL:https://www.fahrschule-alkoven.at/event/auto-20/2025-04-08/
LOCATION:Fahrschule Alkoven\, Hochfeldstraße 1\, Alkoven\, 4072
CATEGORIES:Auto
END:VEVENT
BEGIN:VEVENT
DTSTART;TZID=Europe/Berlin:20250409T180000
DTEND;TZID=Europe/Berlin:20250409T203000
DTSTAMP:20260420T045214
CREATED:20241021T085326Z
LAST-MODIFIED:20250326T071452Z
UID:10004698-1744221600-1744230600@www.fahrschule-alkoven.at
SUMMARY:Auto
DESCRIPTION:Schnellkurs Ostern \n– ausgebucht –
URL:https://www.fahrschule-alkoven.at/event/auto-20/2025-04-09/
LOCATION:Fahrschule Alkoven\, Hochfeldstraße 1\, Alkoven\, 4072
CATEGORIES:Auto
END:VEVENT
BEGIN:VEVENT
DTSTART;TZID=Europe/Berlin:20250409T180000
DTEND;TZID=Europe/Berlin:20250409T203000
DTSTAMP:20260420T045214
CREATED:20241205T163037Z
LAST-MODIFIED:20250326T103216Z
UID:10004796-1744221600-1744230600@www.fahrschule-alkoven.at
SUMMARY:Moped
DESCRIPTION:Teil 2 \n– ausgebucht –
URL:https://www.fahrschule-alkoven.at/event/moped-26/
LOCATION:Fahrschule Alkoven\, Hochfeldstraße 1\, Alkoven\, 4072
CATEGORIES:Moped
END:VEVENT
BEGIN:VEVENT
DTSTART;TZID=Europe/Berlin:20250410T180000
DTEND;TZID=Europe/Berlin:20250410T203000
DTSTAMP:20260420T045214
CREATED:20241021T085326Z
LAST-MODIFIED:20250326T071452Z
UID:10004699-1744308000-1744317000@www.fahrschule-alkoven.at
SUMMARY:Auto
DESCRIPTION:Schnellkurs Ostern \n– ausgebucht –
URL:https://www.fahrschule-alkoven.at/event/auto-20/2025-04-10/
LOCATION:Fahrschule Alkoven\, Hochfeldstraße 1\, Alkoven\, 4072
CATEGORIES:Auto
END:VEVENT
BEGIN:VEVENT
DTSTART;TZID=Europe/Berlin:20250411T170000
DTEND;TZID=Europe/Berlin:20250411T202000
DTSTAMP:20260420T045214
CREATED:20241021T085546Z
LAST-MODIFIED:20250326T070953Z
UID:10004700-1744390800-1744402800@www.fahrschule-alkoven.at
SUMMARY:Auto
DESCRIPTION:Schnellkurs Ostern \n– ausgebucht – \n 
URL:https://www.fahrschule-alkoven.at/event/auto-21/
LOCATION:Fahrschule Alkoven\, Hochfeldstraße 1\, Alkoven\, 4072
CATEGORIES:Auto
END:VEVENT
BEGIN:VEVENT
DTSTART;TZID=Europe/Berlin:20250414T173000
DTEND;TZID=Europe/Berlin:20250414T205000
DTSTAMP:20260420T045214
CREATED:20241021T090006Z
LAST-MODIFIED:20250326T071232Z
UID:10004704-1744651800-1744663800@www.fahrschule-alkoven.at
SUMMARY:Auto
DESCRIPTION:Schnellkurs Ostern \n– ausgebucht –
URL:https://www.fahrschule-alkoven.at/event/auto-22/2025-04-14/
LOCATION:Fahrschule Alkoven\, Hochfeldstraße 1\, Alkoven\, 4072
CATEGORIES:Auto
END:VEVENT
BEGIN:VEVENT
DTSTART;TZID=Europe/Berlin:20250415T173000
DTEND;TZID=Europe/Berlin:20250415T205000
DTSTAMP:20260420T045214
CREATED:20241021T090006Z
LAST-MODIFIED:20250326T071232Z
UID:10004705-1744738200-1744750200@www.fahrschule-alkoven.at
SUMMARY:Auto
DESCRIPTION:Schnellkurs Ostern \n– ausgebucht –
URL:https://www.fahrschule-alkoven.at/event/auto-22/2025-04-15/
LOCATION:Fahrschule Alkoven\, Hochfeldstraße 1\, Alkoven\, 4072
CATEGORIES:Auto
END:VEVENT
BEGIN:VEVENT
DTSTART;VALUE=DATE:20250416
DTEND;VALUE=DATE:20250417
DTSTAMP:20260420T045214
CREATED:20250226T095454Z
LAST-MODIFIED:20250313T073346Z
UID:10005338-1744761600-1744847999@www.fahrschule-alkoven.at
SUMMARY:Praxis Prüfungstermin
DESCRIPTION:
URL:https://www.fahrschule-alkoven.at/event/pruefungstermin-praxis-2/2025-04-16/
CATEGORIES:Prüfungstermin Praxis
END:VEVENT
BEGIN:VEVENT
DTSTART;TZID=Europe/Berlin:20250416T173000
DTEND;TZID=Europe/Berlin:20250416T205000
DTSTAMP:20260420T045214
CREATED:20241021T090006Z
LAST-MODIFIED:20250326T071232Z
UID:10004706-1744824600-1744836600@www.fahrschule-alkoven.at
SUMMARY:Auto
DESCRIPTION:Schnellkurs Ostern \n– ausgebucht –
URL:https://www.fahrschule-alkoven.at/event/auto-22/2025-04-16/
LOCATION:Fahrschule Alkoven\, Hochfeldstraße 1\, Alkoven\, 4072
CATEGORIES:Auto
END:VEVENT
BEGIN:VEVENT
DTSTART;TZID=Europe/Berlin:20250417T173000
DTEND;TZID=Europe/Berlin:20250417T205000
DTSTAMP:20260420T045214
CREATED:20241021T090300Z
LAST-MODIFIED:20250326T071314Z
UID:10004708-1744911000-1744923000@www.fahrschule-alkoven.at
SUMMARY:Auto Kursende
DESCRIPTION:Schnellkurs Ostern \n– ausgebucht –
URL:https://www.fahrschule-alkoven.at/event/auto-kursende-6/
LOCATION:Fahrschule Alkoven\, Hochfeldstraße 1\, Alkoven\, 4072
CATEGORIES:Auto
END:VEVENT
BEGIN:VEVENT
DTSTART;VALUE=DATE:20250421
DTEND;VALUE=DATE:20250422
DTSTAMP:20260420T045214
CREATED:20250226T104652Z
LAST-MODIFIED:20250226T104806Z
UID:10005493-1745193600-1745279999@www.fahrschule-alkoven.at
SUMMARY:Geschlossen
DESCRIPTION:  \n 
URL:https://www.fahrschule-alkoven.at/event/geschlossen-2/
LOCATION:Fahrschule Alkoven\, Hochfeldstraße 1\, Alkoven\, 4072
CATEGORIES:GESCHLOSSEN
END:VEVENT
BEGIN:VEVENT
DTSTART;TZID=Europe/Berlin:20250422T130000
DTEND;TZID=Europe/Berlin:20250422T160000
DTSTAMP:20260420T045214
CREATED:20250226T105106Z
LAST-MODIFIED:20250226T105128Z
UID:10005494-1745326800-1745337600@www.fahrschule-alkoven.at
SUMMARY:Theorie Prüfungstermin
DESCRIPTION:
URL:https://www.fahrschule-alkoven.at/event/theorie-pruefungstermin/
CATEGORIES:Prüfungstermin Theorie
END:VEVENT
BEGIN:VEVENT
DTSTART;TZID=Europe/Berlin:20250424T180000
DTEND;TZID=Europe/Berlin:20250424T194000
DTSTAMP:20260420T045214
CREATED:20241120T152843Z
LAST-MODIFIED:20250305T123527Z
UID:10004748-1745517600-1745523600@www.fahrschule-alkoven.at
SUMMARY:Traktor
DESCRIPTION:Teil 1
URL:https://www.fahrschule-alkoven.at/event/traktor-11/
LOCATION:Fahrschule Alkoven\, Hochfeldstraße 1\, Alkoven\, 4072
CATEGORIES:Traktor
END:VEVENT
BEGIN:VEVENT
DTSTART;TZID=Europe/Berlin:20250425T163000
DTEND;TZID=Europe/Berlin:20250425T181000
DTSTAMP:20260420T045214
CREATED:20241120T154350Z
LAST-MODIFIED:20250227T160517Z
UID:10004756-1745598600-1745604600@www.fahrschule-alkoven.at
SUMMARY:Traktor
DESCRIPTION:Teil 2
URL:https://www.fahrschule-alkoven.at/event/traktor-19/
LOCATION:Fahrschule Alkoven\, Hochfeldstraße 1\, Alkoven\, 4072
CATEGORIES:Traktor
END:VEVENT
BEGIN:VEVENT
DTSTART;TZID=Europe/Berlin:20250429T180000
DTEND;TZID=Europe/Berlin:20250429T203000
DTSTAMP:20260420T045214
CREATED:20241021T081531Z
LAST-MODIFIED:20250226T101529Z
UID:10004556-1745949600-1745958600@www.fahrschule-alkoven.at
SUMMARY:Auto Kursstart
DESCRIPTION:5-Wo-Kurs
URL:https://www.fahrschule-alkoven.at/event/auto-kursstart-3/
LOCATION:Fahrschule Alkoven\, Hochfeldstraße 1\, Alkoven\, 4072
CATEGORIES:Auto
END:VEVENT
BEGIN:VEVENT
DTSTART;TZID=Europe/Berlin:20250429T180000
DTEND;TZID=Europe/Berlin:20250429T203000
DTSTAMP:20260420T045214
CREATED:20241021T104624Z
LAST-MODIFIED:20241021T104624Z
UID:10004731-1745949600-1745958600@www.fahrschule-alkoven.at
SUMMARY:Moped
DESCRIPTION:Teil 1
URL:https://www.fahrschule-alkoven.at/event/moped-11/
LOCATION:Fahrschule Alkoven\, Hochfeldstraße 1\, Alkoven\, 4072
CATEGORIES:Moped
END:VEVENT
BEGIN:VEVENT
DTSTART;VALUE=DATE:20250430
DTEND;VALUE=DATE:20250501
DTSTAMP:20260420T045214
CREATED:20250226T095454Z
LAST-MODIFIED:20250313T073346Z
UID:10005339-1745971200-1746057599@www.fahrschule-alkoven.at
SUMMARY:Praxis Prüfungstermin
DESCRIPTION:
URL:https://www.fahrschule-alkoven.at/event/pruefungstermin-praxis-2/2025-04-30/
CATEGORIES:Prüfungstermin Praxis
END:VEVENT
BEGIN:VEVENT
DTSTART;TZID=Europe/Berlin:20250430T180000
DTEND;TZID=Europe/Berlin:20250430T203000
DTSTAMP:20260420T045214
CREATED:20250226T105525Z
LAST-MODIFIED:20250305T125112Z
UID:10005507-1746036000-1746045000@www.fahrschule-alkoven.at
SUMMARY:Auto
DESCRIPTION:5 Wo-Kurs / 18:00 – 20:30 Uhr
URL:https://www.fahrschule-alkoven.at/event/auto-41/
LOCATION:Fahrschule Alkoven\, Hochfeldstraße 1\, Alkoven\, 4072
CATEGORIES:Auto
END:VEVENT
END:VCALENDAR