BEGIN:VCALENDAR
VERSION:2.0
PRODID:-//fahrschule-alkoven.at - ECPv6.11.2//NONSGML v1.0//EN
CALSCALE:GREGORIAN
METHOD:PUBLISH
X-WR-CALNAME:fahrschule-alkoven.at
X-ORIGINAL-URL:https://www.fahrschule-alkoven.at
X-WR-CALDESC:Veranstaltungen für fahrschule-alkoven.at
REFRESH-INTERVAL;VALUE=DURATION:PT1H
X-Robots-Tag:noindex
X-PUBLISHED-TTL:PT1H
BEGIN:VTIMEZONE
TZID:Europe/Berlin
BEGIN:DAYLIGHT
TZOFFSETFROM:+0100
TZOFFSETTO:+0200
TZNAME:CEST
DTSTART:20250330T010000
END:DAYLIGHT
BEGIN:STANDARD
TZOFFSETFROM:+0200
TZOFFSETTO:+0100
TZNAME:CET
DTSTART:20251026T010000
END:STANDARD
END:VTIMEZONE
BEGIN:VEVENT
DTSTART;VALUE=DATE:20250305
DTEND;VALUE=DATE:20250306
DTSTAMP:20260420T061745
CREATED:20250226T095454Z
LAST-MODIFIED:20250313T073346Z
UID:10001854-1741132800-1741219199@www.fahrschule-alkoven.at
SUMMARY:Praxis Prüfungstermin
DESCRIPTION:
URL:https://www.fahrschule-alkoven.at/event/pruefungstermin-praxis-2/2025-03-05/
CATEGORIES:Prüfungstermin Praxis
END:VEVENT
BEGIN:VEVENT
DTSTART;TZID=Europe/Berlin:20250310T130000
DTEND;TZID=Europe/Berlin:20250310T160000
DTSTAMP:20260420T061745
CREATED:20250226T100120Z
LAST-MODIFIED:20250917T090351Z
UID:10005472-1741611600-1741622400@www.fahrschule-alkoven.at
SUMMARY:Theorie Prüfungstermin
DESCRIPTION:
URL:https://www.fahrschule-alkoven.at/event/pruefungstermin-theorie-2/2025-03-10/
CATEGORIES:Prüfungstermin Theorie
END:VEVENT
BEGIN:VEVENT
DTSTART;TZID=Europe/Berlin:20250310T180000
DTEND;TZID=Europe/Berlin:20250310T203000
DTSTAMP:20260420T061745
CREATED:20241021T091323Z
LAST-MODIFIED:20250226T103850Z
UID:10004711-1741629600-1741638600@www.fahrschule-alkoven.at
SUMMARY:Moped
DESCRIPTION:Teil 1
URL:https://www.fahrschule-alkoven.at/event/moped-9/
LOCATION:Fahrschule Alkoven\, Hochfeldstraße 1\, Alkoven\, 4072
CATEGORIES:Moped
END:VEVENT
BEGIN:VEVENT
DTSTART;TZID=Europe/Berlin:20250312T180000
DTEND;TZID=Europe/Berlin:20250312T203000
DTSTAMP:20260420T061745
CREATED:20241205T163216Z
LAST-MODIFIED:20250226T103958Z
UID:10004798-1741802400-1741811400@www.fahrschule-alkoven.at
SUMMARY:Moped
DESCRIPTION:Teil 2
URL:https://www.fahrschule-alkoven.at/event/moped-28/
LOCATION:Fahrschule Alkoven\, Hochfeldstraße 1\, Alkoven\, 4072
CATEGORIES:Moped
END:VEVENT
BEGIN:VEVENT
DTSTART;TZID=Europe/Berlin:20250313T180000
DTEND;TZID=Europe/Berlin:20250313T203000
DTSTAMP:20260420T061745
CREATED:20241121T101929Z
LAST-MODIFIED:20250226T100426Z
UID:10004760-1741888800-1741897800@www.fahrschule-alkoven.at
SUMMARY:Motorrad
DESCRIPTION:Teil 1
URL:https://www.fahrschule-alkoven.at/event/motorrad-4/
LOCATION:Fahrschule Alkoven\, Hochfeldstraße 1\, Alkoven\, 4072
CATEGORIES:Motorrad
END:VEVENT
BEGIN:VEVENT
DTSTART;TZID=Europe/Berlin:20250314T163000
DTEND;TZID=Europe/Berlin:20250314T190000
DTSTAMP:20260420T061745
CREATED:20240823T072451Z
LAST-MODIFIED:20250226T100938Z
UID:10001438-1741969800-1741978800@www.fahrschule-alkoven.at
SUMMARY:Motorrad
DESCRIPTION:Teil 2
URL:https://www.fahrschule-alkoven.at/event/motorrad/
LOCATION:Fahrschule Alkoven\, Hochfeldstraße 1\, Alkoven\, 4072
CATEGORIES:Motorrad
END:VEVENT
BEGIN:VEVENT
DTSTART;VALUE=DATE:20250319
DTEND;VALUE=DATE:20250320
DTSTAMP:20260420T061745
CREATED:20250226T095454Z
LAST-MODIFIED:20250313T073346Z
UID:10005336-1742342400-1742428799@www.fahrschule-alkoven.at
SUMMARY:Praxis Prüfungstermin
DESCRIPTION:
URL:https://www.fahrschule-alkoven.at/event/pruefungstermin-praxis-2/2025-03-19/
CATEGORIES:Prüfungstermin Praxis
END:VEVENT
BEGIN:VEVENT
DTSTART;TZID=Europe/Berlin:20250324T130000
DTEND;TZID=Europe/Berlin:20250324T160000
DTSTAMP:20260420T061745
CREATED:20250226T100120Z
LAST-MODIFIED:20250917T090351Z
UID:10005473-1742821200-1742832000@www.fahrschule-alkoven.at
SUMMARY:Theorie Prüfungstermin
DESCRIPTION:
URL:https://www.fahrschule-alkoven.at/event/pruefungstermin-theorie-2/2025-03-24/
CATEGORIES:Prüfungstermin Theorie
END:VEVENT
BEGIN:VEVENT
DTSTART;TZID=Europe/Berlin:20250326T180000
DTEND;TZID=Europe/Berlin:20250326T203000
DTSTAMP:20260420T061745
CREATED:20250305T100303Z
LAST-MODIFIED:20250305T100303Z
UID:10005511-1743012000-1743021000@www.fahrschule-alkoven.at
SUMMARY:Anhänger
DESCRIPTION:1 Kursabend \nEzuB\, Code 96
URL:https://www.fahrschule-alkoven.at/event/anhaenger-5/
CATEGORIES:Anhänger
END:VEVENT
END:VCALENDAR