BEGIN:VCALENDAR
VERSION:2.0
PRODID:-//fahrschule-alkoven.at - ECPv6.11.2//NONSGML v1.0//EN
CALSCALE:GREGORIAN
METHOD:PUBLISH
X-ORIGINAL-URL:https://www.fahrschule-alkoven.at
X-WR-CALDESC:Veranstaltungen für fahrschule-alkoven.at
REFRESH-INTERVAL;VALUE=DURATION:PT1H
X-Robots-Tag:noindex
X-PUBLISHED-TTL:PT1H
BEGIN:VTIMEZONE
TZID:Europe/Berlin
BEGIN:DAYLIGHT
TZOFFSETFROM:+0100
TZOFFSETTO:+0200
TZNAME:CEST
DTSTART:20250330T010000
END:DAYLIGHT
BEGIN:STANDARD
TZOFFSETFROM:+0200
TZOFFSETTO:+0100
TZNAME:CET
DTSTART:20251026T010000
END:STANDARD
END:VTIMEZONE
BEGIN:VEVENT
DTSTART;TZID=Europe/Berlin:20250204T180000
DTEND;TZID=Europe/Berlin:20250204T203000
DTSTAMP:20260420T075515
CREATED:20240823T075938Z
LAST-MODIFIED:20241218T084902Z
UID:10001481-1738692000-1738701000@www.fahrschule-alkoven.at
SUMMARY:Auto
DESCRIPTION:5 Wo-Kurs / DI u. DO / 18:00 – 20:30 Uhr
URL:https://www.fahrschule-alkoven.at/event/auto-2/2025-02-04/
LOCATION:Fahrschule Alkoven\, Hochfeldstraße 1\, Alkoven\, 4072
CATEGORIES:Auto
END:VEVENT
BEGIN:VEVENT
DTSTART;TZID=Europe/Berlin:20250205T180000
DTEND;TZID=Europe/Berlin:20250205T203000
DTSTAMP:20260420T075515
CREATED:20240823T083007Z
LAST-MODIFIED:20240823T083007Z
UID:10001545-1738778400-1738787400@www.fahrschule-alkoven.at
SUMMARY:Anhänger
DESCRIPTION:1 Kursabend: 28.09.24 / 23.10.24 / 4.12.24 / 5.02.25
URL:https://www.fahrschule-alkoven.at/event/anhaenger-3/
CATEGORIES:Anhänger
END:VEVENT
BEGIN:VEVENT
DTSTART;TZID=Europe/Berlin:20250205T180000
DTEND;TZID=Europe/Berlin:20250205T203000
DTSTAMP:20260420T075515
CREATED:20240910T101429Z
LAST-MODIFIED:20241218T084850Z
UID:10002098-1738778400-1738787400@www.fahrschule-alkoven.at
SUMMARY:Auto
DESCRIPTION:5 Wo-Kurs / MI / 18:00 – 20:30 Uhr \nStart: 07.01.25
URL:https://www.fahrschule-alkoven.at/event/auto-6/
LOCATION:Fahrschule Alkoven\, Hochfeldstraße 1\, Alkoven\, 4072
CATEGORIES:Auto
END:VEVENT
BEGIN:VEVENT
DTSTART;TZID=Europe/Berlin:20250206T180000
DTEND;TZID=Europe/Berlin:20250206T203000
DTSTAMP:20260420T075515
CREATED:20240823T075938Z
LAST-MODIFIED:20241218T084902Z
UID:10001482-1738864800-1738873800@www.fahrschule-alkoven.at
SUMMARY:Auto
DESCRIPTION:5 Wo-Kurs / DI u. DO / 18:00 – 20:30 Uhr
URL:https://www.fahrschule-alkoven.at/event/auto-2/2025-02-06/
LOCATION:Fahrschule Alkoven\, Hochfeldstraße 1\, Alkoven\, 4072
CATEGORIES:Auto
END:VEVENT
BEGIN:VEVENT
DTSTART;VALUE=DATE:20250207
DTEND;VALUE=DATE:20250208
DTSTAMP:20260420T075515
CREATED:20240910T084716Z
LAST-MODIFIED:20241211T084810Z
UID:10001851-1738886400-1738972799@www.fahrschule-alkoven.at
SUMMARY:Praxis Prüfungstermin
DESCRIPTION:
URL:https://www.fahrschule-alkoven.at/event/pruefungstermin-praxis/2025-02-07/
CATEGORIES:Prüfungstermin Praxis
END:VEVENT
BEGIN:VEVENT
DTSTART;TZID=Europe/Berlin:20250210T180000
DTEND;TZID=Europe/Berlin:20250210T203000
DTSTAMP:20260420T075515
CREATED:20241017T105234Z
LAST-MODIFIED:20241218T084841Z
UID:10004528-1739210400-1739219400@www.fahrschule-alkoven.at
SUMMARY:Auto Kursstart
DESCRIPTION:Schnellkurs Semesterferien
URL:https://www.fahrschule-alkoven.at/event/auto-kursstart-2/
LOCATION:Fahrschule Alkoven\, Hochfeldstraße 1\, Alkoven\, 4072
CATEGORIES:Auto
END:VEVENT
BEGIN:VEVENT
DTSTART;TZID=Europe/Berlin:20250210T180000
DTEND;TZID=Europe/Berlin:20250210T203000
DTSTAMP:20260420T075515
CREATED:20241021T091201Z
LAST-MODIFIED:20241021T091201Z
UID:10004710-1739210400-1739219400@www.fahrschule-alkoven.at
SUMMARY:Moped
DESCRIPTION:Teil 1
URL:https://www.fahrschule-alkoven.at/event/moped-8/
LOCATION:Fahrschule Alkoven\, Hochfeldstraße 1\, Alkoven\, 4072
CATEGORIES:Moped
END:VEVENT
BEGIN:VEVENT
DTSTART;TZID=Europe/Berlin:20250211T180000
DTEND;TZID=Europe/Berlin:20250211T203000
DTSTAMP:20260420T075515
CREATED:20241017T105442Z
LAST-MODIFIED:20241218T084752Z
UID:10004538-1739296800-1739305800@www.fahrschule-alkoven.at
SUMMARY:Auto
DESCRIPTION:Schnellkurs Semesterferien
URL:https://www.fahrschule-alkoven.at/event/auto-16/2025-02-11/
LOCATION:Fahrschule Alkoven\, Hochfeldstraße 1\, Alkoven\, 4072
CATEGORIES:Auto
END:VEVENT
BEGIN:VEVENT
DTSTART;TZID=Europe/Berlin:20250212T180000
DTEND;TZID=Europe/Berlin:20250212T203000
DTSTAMP:20260420T075515
CREATED:20241017T105442Z
LAST-MODIFIED:20241218T084752Z
UID:10004539-1739383200-1739392200@www.fahrschule-alkoven.at
SUMMARY:Auto
DESCRIPTION:Schnellkurs Semesterferien
URL:https://www.fahrschule-alkoven.at/event/auto-16/2025-02-12/
LOCATION:Fahrschule Alkoven\, Hochfeldstraße 1\, Alkoven\, 4072
CATEGORIES:Auto
END:VEVENT
BEGIN:VEVENT
DTSTART;TZID=Europe/Berlin:20250213T133000
DTEND;TZID=Europe/Berlin:20250213T170000
DTSTAMP:20260420T075515
CREATED:20240820T103422Z
LAST-MODIFIED:20240821T065302Z
UID:10001060-1739453400-1739466000@www.fahrschule-alkoven.at
SUMMARY:Theorie Prüfungstermin
DESCRIPTION:
URL:https://www.fahrschule-alkoven.at/event/pruefungstermin-theorie/2025-02-13/
CATEGORIES:Prüfungstermin Theorie
END:VEVENT
BEGIN:VEVENT
DTSTART;TZID=Europe/Berlin:20250213T180000
DTEND;TZID=Europe/Berlin:20250213T203000
DTSTAMP:20260420T075515
CREATED:20241017T105442Z
LAST-MODIFIED:20241218T084752Z
UID:10004540-1739469600-1739478600@www.fahrschule-alkoven.at
SUMMARY:Auto
DESCRIPTION:Schnellkurs Semesterferien
URL:https://www.fahrschule-alkoven.at/event/auto-16/2025-02-13/
LOCATION:Fahrschule Alkoven\, Hochfeldstraße 1\, Alkoven\, 4072
CATEGORIES:Auto
END:VEVENT
BEGIN:VEVENT
DTSTART;TZID=Europe/Berlin:20250213T180000
DTEND;TZID=Europe/Berlin:20250213T203000
DTSTAMP:20260420T075515
CREATED:20241205T163142Z
LAST-MODIFIED:20241205T163142Z
UID:10004797-1739469600-1739478600@www.fahrschule-alkoven.at
SUMMARY:Moped
DESCRIPTION:Teil 2
URL:https://www.fahrschule-alkoven.at/event/moped-27/
LOCATION:Fahrschule Alkoven\, Hochfeldstraße 1\, Alkoven\, 4072
CATEGORIES:Moped
END:VEVENT
BEGIN:VEVENT
DTSTART;VALUE=DATE:20250214
DTEND;VALUE=DATE:20250215
DTSTAMP:20260420T075515
CREATED:20240910T084716Z
LAST-MODIFIED:20241211T084810Z
UID:10001852-1739491200-1739577599@www.fahrschule-alkoven.at
SUMMARY:Praxis Prüfungstermin
DESCRIPTION:
URL:https://www.fahrschule-alkoven.at/event/pruefungstermin-praxis/2025-02-14/
CATEGORIES:Prüfungstermin Praxis
END:VEVENT
BEGIN:VEVENT
DTSTART;TZID=Europe/Berlin:20250214T163000
DTEND;TZID=Europe/Berlin:20250214T195000
DTSTAMP:20260420T075515
CREATED:20241017T105624Z
LAST-MODIFIED:20241218T084540Z
UID:10004541-1739550600-1739562600@www.fahrschule-alkoven.at
SUMMARY:Auto
DESCRIPTION:Schnellkurs Semesterferien
URL:https://www.fahrschule-alkoven.at/event/auto-17/
LOCATION:Fahrschule Alkoven\, Hochfeldstraße 1\, Alkoven\, 4072
CATEGORIES:Auto
END:VEVENT
BEGIN:VEVENT
DTSTART;TZID=Europe/Berlin:20250217T173000
DTEND;TZID=Europe/Berlin:20250217T205000
DTSTAMP:20260420T075515
CREATED:20241017T105759Z
LAST-MODIFIED:20241218T084527Z
UID:10004551-1739813400-1739825400@www.fahrschule-alkoven.at
SUMMARY:Auto
DESCRIPTION:Schnellkurs Semesterferien
URL:https://www.fahrschule-alkoven.at/event/auto-18/2025-02-17/
LOCATION:Fahrschule Alkoven\, Hochfeldstraße 1\, Alkoven\, 4072
CATEGORIES:Auto
END:VEVENT
BEGIN:VEVENT
DTSTART;TZID=Europe/Berlin:20250218T173000
DTEND;TZID=Europe/Berlin:20250218T205000
DTSTAMP:20260420T075515
CREATED:20241017T105759Z
LAST-MODIFIED:20241218T084527Z
UID:10004552-1739899800-1739911800@www.fahrschule-alkoven.at
SUMMARY:Auto
DESCRIPTION:Schnellkurs Semesterferien
URL:https://www.fahrschule-alkoven.at/event/auto-18/2025-02-18/
LOCATION:Fahrschule Alkoven\, Hochfeldstraße 1\, Alkoven\, 4072
CATEGORIES:Auto
END:VEVENT
BEGIN:VEVENT
DTSTART;TZID=Europe/Berlin:20250219T173000
DTEND;TZID=Europe/Berlin:20250219T205000
DTSTAMP:20260420T075515
CREATED:20241017T105759Z
LAST-MODIFIED:20241218T084527Z
UID:10004553-1739986200-1739998200@www.fahrschule-alkoven.at
SUMMARY:Auto
DESCRIPTION:Schnellkurs Semesterferien
URL:https://www.fahrschule-alkoven.at/event/auto-18/2025-02-19/
LOCATION:Fahrschule Alkoven\, Hochfeldstraße 1\, Alkoven\, 4072
CATEGORIES:Auto
END:VEVENT
BEGIN:VEVENT
DTSTART;TZID=Europe/Berlin:20250220T173000
DTEND;TZID=Europe/Berlin:20250220T205000
DTSTAMP:20260420T075515
CREATED:20241017T105907Z
LAST-MODIFIED:20241218T084504Z
UID:10004554-1740072600-1740084600@www.fahrschule-alkoven.at
SUMMARY:Auto Kursende
DESCRIPTION:Schnellkurs Semesterferien \n 
URL:https://www.fahrschule-alkoven.at/event/auto-kursende-4/
LOCATION:Fahrschule Alkoven\, Hochfeldstraße 1\, Alkoven\, 4072
CATEGORIES:Auto
END:VEVENT
BEGIN:VEVENT
DTSTART;VALUE=DATE:20250221
DTEND;VALUE=DATE:20250222
DTSTAMP:20260420T075515
CREATED:20240910T084716Z
LAST-MODIFIED:20241211T084810Z
UID:10001853-1740096000-1740182399@www.fahrschule-alkoven.at
SUMMARY:Praxis Prüfungstermin
DESCRIPTION:
URL:https://www.fahrschule-alkoven.at/event/pruefungstermin-praxis/2025-02-21/
CATEGORIES:Prüfungstermin Praxis
END:VEVENT
BEGIN:VEVENT
DTSTART;TZID=Europe/Berlin:20250224T130000
DTEND;TZID=Europe/Berlin:20250224T160000
DTSTAMP:20260420T075515
CREATED:20250226T100120Z
LAST-MODIFIED:20250917T090351Z
UID:10001061-1740402000-1740412800@www.fahrschule-alkoven.at
SUMMARY:Theorie Prüfungstermin
DESCRIPTION:
URL:https://www.fahrschule-alkoven.at/event/pruefungstermin-theorie-2/2025-02-24/
CATEGORIES:Prüfungstermin Theorie
END:VEVENT
END:VCALENDAR