BEGIN:VCALENDAR
VERSION:2.0
PRODID:-//fahrschule-alkoven.at - ECPv6.11.2//NONSGML v1.0//EN
CALSCALE:GREGORIAN
METHOD:PUBLISH
X-WR-CALNAME:fahrschule-alkoven.at
X-ORIGINAL-URL:https://www.fahrschule-alkoven.at
X-WR-CALDESC:Veranstaltungen für fahrschule-alkoven.at
REFRESH-INTERVAL;VALUE=DURATION:PT1H
X-Robots-Tag:noindex
X-PUBLISHED-TTL:PT1H
BEGIN:VTIMEZONE
TZID:Europe/Berlin
BEGIN:DAYLIGHT
TZOFFSETFROM:+0100
TZOFFSETTO:+0200
TZNAME:CEST
DTSTART:20240331T010000
END:DAYLIGHT
BEGIN:STANDARD
TZOFFSETFROM:+0200
TZOFFSETTO:+0100
TZNAME:CET
DTSTART:20241027T010000
END:STANDARD
BEGIN:DAYLIGHT
TZOFFSETFROM:+0100
TZOFFSETTO:+0200
TZNAME:CEST
DTSTART:20250330T010000
END:DAYLIGHT
BEGIN:STANDARD
TZOFFSETFROM:+0200
TZOFFSETTO:+0100
TZNAME:CET
DTSTART:20251026T010000
END:STANDARD
END:VTIMEZONE
BEGIN:VEVENT
DTSTART;TZID=Europe/Berlin:20241204T180000
DTEND;TZID=Europe/Berlin:20241204T203000
DTSTAMP:20260420T112653
CREATED:20240823T082938Z
LAST-MODIFIED:20240823T082938Z
UID:10001544-1733335200-1733344200@www.fahrschule-alkoven.at
SUMMARY:Anhänger
DESCRIPTION:1 Kursabend: 28.09.24 / 23.10.24 / 4.12.24 / 5.02.25
URL:https://www.fahrschule-alkoven.at/event/anhaenger-2/
CATEGORIES:Anhänger
END:VEVENT
BEGIN:VEVENT
DTSTART;TZID=Europe/Berlin:20241205T133000
DTEND;TZID=Europe/Berlin:20241205T170000
DTSTAMP:20260420T112653
CREATED:20240820T103422Z
LAST-MODIFIED:20240821T065302Z
UID:10001055-1733405400-1733418000@www.fahrschule-alkoven.at
SUMMARY:Theorie Prüfungstermin
DESCRIPTION:
URL:https://www.fahrschule-alkoven.at/event/pruefungstermin-theorie/2024-12-05/
CATEGORIES:Prüfungstermin Theorie
END:VEVENT
BEGIN:VEVENT
DTSTART;TZID=Europe/Berlin:20241205T180000
DTEND;TZID=Europe/Berlin:20241205T203000
DTSTAMP:20260420T112653
CREATED:20240823T081315Z
LAST-MODIFIED:20240910T085039Z
UID:10001523-1733421600-1733430600@www.fahrschule-alkoven.at
SUMMARY:Traktor
DESCRIPTION:05.12.24 Teil 1 & 06.12.24 Teil 2
URL:https://www.fahrschule-alkoven.at/event/traktor/
LOCATION:Fahrschule Alkoven\, Hochfeldstraße 1\, Alkoven\, 4072
CATEGORIES:Traktor
END:VEVENT
BEGIN:VEVENT
DTSTART;VALUE=DATE:20241206
DTEND;VALUE=DATE:20241207
DTSTAMP:20260420T112653
CREATED:20240910T084716Z
LAST-MODIFIED:20241211T084810Z
UID:10001842-1733443200-1733529599@www.fahrschule-alkoven.at
SUMMARY:Praxis Prüfungstermin
DESCRIPTION:
URL:https://www.fahrschule-alkoven.at/event/pruefungstermin-praxis/2024-12-06/
CATEGORIES:Prüfungstermin Praxis
END:VEVENT
BEGIN:VEVENT
DTSTART;TZID=Europe/Berlin:20241206T160000
DTEND;TZID=Europe/Berlin:20241206T183000
DTSTAMP:20260420T112653
CREATED:20240823T081409Z
LAST-MODIFIED:20240910T085154Z
UID:10001524-1733500800-1733509800@www.fahrschule-alkoven.at
SUMMARY:Traktor
DESCRIPTION:Teil 2
URL:https://www.fahrschule-alkoven.at/event/traktor-2/
LOCATION:Fahrschule Alkoven\, Hochfeldstraße 1\, Alkoven\, 4072
CATEGORIES:Traktor
END:VEVENT
BEGIN:VEVENT
DTSTART;VALUE=DATE:20241213
DTEND;VALUE=DATE:20241214
DTSTAMP:20260420T112653
CREATED:20240910T084716Z
LAST-MODIFIED:20241211T084810Z
UID:10001843-1734048000-1734134399@www.fahrschule-alkoven.at
SUMMARY:Praxis Prüfungstermin
DESCRIPTION:
URL:https://www.fahrschule-alkoven.at/event/pruefungstermin-praxis/2024-12-13/
CATEGORIES:Prüfungstermin Praxis
END:VEVENT
BEGIN:VEVENT
DTSTART;TZID=Europe/Berlin:20241216T180000
DTEND;TZID=Europe/Berlin:20241216T203000
DTSTAMP:20260420T112653
CREATED:20240910T092410Z
LAST-MODIFIED:20240910T092457Z
UID:10001549-1734372000-1734381000@www.fahrschule-alkoven.at
SUMMARY:Moped
DESCRIPTION:Teil 1 – 16.12.24 & Teil 2 – 19.12.24
URL:https://www.fahrschule-alkoven.at/event/moped-6/
LOCATION:Fahrschule Alkoven\, Hochfeldstraße 1\, Alkoven\, 4072
CATEGORIES:Moped
END:VEVENT
BEGIN:VEVENT
DTSTART;TZID=Europe/Berlin:20241216T180000
DTEND;TZID=Europe/Berlin:20241216T203000
DTSTAMP:20260420T112653
CREATED:20240916T095408Z
LAST-MODIFIED:20241218T085213Z
UID:10002119-1734372000-1734381000@www.fahrschule-alkoven.at
SUMMARY:Auto Kursstart
DESCRIPTION:Schnellkurs Weihnachten \n 
URL:https://www.fahrschule-alkoven.at/event/auto-kursstart/
LOCATION:Fahrschule Alkoven\, Hochfeldstraße 1\, Alkoven\, 4072
CATEGORIES:Auto
END:VEVENT
BEGIN:VEVENT
DTSTART;TZID=Europe/Berlin:20241217T180000
DTEND;TZID=Europe/Berlin:20241217T203000
DTSTAMP:20260420T112653
CREATED:20241009T092707Z
LAST-MODIFIED:20241218T085205Z
UID:10004510-1734458400-1734467400@www.fahrschule-alkoven.at
SUMMARY:Auto
DESCRIPTION:Schnellkurs Weihnachten / 18:00 – 20:30 Uhr \n 
URL:https://www.fahrschule-alkoven.at/event/auto-11/2024-12-17/
LOCATION:Fahrschule Alkoven\, Hochfeldstraße 1\, Alkoven\, 4072
CATEGORIES:Auto
END:VEVENT
BEGIN:VEVENT
DTSTART;TZID=Europe/Berlin:20241218T180000
DTEND;TZID=Europe/Berlin:20241218T203000
DTSTAMP:20260420T112653
CREATED:20241009T092707Z
LAST-MODIFIED:20241218T085205Z
UID:10004511-1734544800-1734553800@www.fahrschule-alkoven.at
SUMMARY:Auto
DESCRIPTION:Schnellkurs Weihnachten / 18:00 – 20:30 Uhr \n 
URL:https://www.fahrschule-alkoven.at/event/auto-11/2024-12-18/
LOCATION:Fahrschule Alkoven\, Hochfeldstraße 1\, Alkoven\, 4072
CATEGORIES:Auto
END:VEVENT
BEGIN:VEVENT
DTSTART;TZID=Europe/Berlin:20241219T133000
DTEND;TZID=Europe/Berlin:20241219T170000
DTSTAMP:20260420T112653
CREATED:20240820T103422Z
LAST-MODIFIED:20240821T065302Z
UID:10001056-1734615000-1734627600@www.fahrschule-alkoven.at
SUMMARY:Theorie Prüfungstermin
DESCRIPTION:
URL:https://www.fahrschule-alkoven.at/event/pruefungstermin-theorie/2024-12-19/
CATEGORIES:Prüfungstermin Theorie
END:VEVENT
BEGIN:VEVENT
DTSTART;TZID=Europe/Berlin:20241219T180000
DTEND;TZID=Europe/Berlin:20241219T203000
DTSTAMP:20260420T112653
CREATED:20240827T070818Z
LAST-MODIFIED:20240910T092651Z
UID:10002093-1734631200-1734640200@www.fahrschule-alkoven.at
SUMMARY:Moped
DESCRIPTION:Teil 2
URL:https://www.fahrschule-alkoven.at/event/moped/
LOCATION:Fahrschule Alkoven\, Hochfeldstraße 1\, Alkoven\, 4072
CATEGORIES:Moped
END:VEVENT
BEGIN:VEVENT
DTSTART;TZID=Europe/Berlin:20241219T180000
DTEND;TZID=Europe/Berlin:20241219T203000
DTSTAMP:20260420T112653
CREATED:20241009T092707Z
LAST-MODIFIED:20241218T085205Z
UID:10004512-1734631200-1734640200@www.fahrschule-alkoven.at
SUMMARY:Auto
DESCRIPTION:Schnellkurs Weihnachten / 18:00 – 20:30 Uhr \n 
URL:https://www.fahrschule-alkoven.at/event/auto-11/2024-12-19/
LOCATION:Fahrschule Alkoven\, Hochfeldstraße 1\, Alkoven\, 4072
CATEGORIES:Auto
END:VEVENT
BEGIN:VEVENT
DTSTART;VALUE=DATE:20241220
DTEND;VALUE=DATE:20241221
DTSTAMP:20260420T112653
CREATED:20240910T084716Z
LAST-MODIFIED:20241211T084810Z
UID:10001844-1734652800-1734739199@www.fahrschule-alkoven.at
SUMMARY:Praxis Prüfungstermin
DESCRIPTION:
URL:https://www.fahrschule-alkoven.at/event/pruefungstermin-praxis/2024-12-20/
CATEGORIES:Prüfungstermin Praxis
END:VEVENT
BEGIN:VEVENT
DTSTART;VALUE=DATE:20241223
DTEND;VALUE=DATE:20241227
DTSTAMP:20260420T112653
CREATED:20241209T163255Z
LAST-MODIFIED:20241218T085141Z
UID:10004801-1734912000-1735257599@www.fahrschule-alkoven.at
SUMMARY:Geschlossen
DESCRIPTION:  \n 
URL:https://www.fahrschule-alkoven.at/event/geschlossen/
LOCATION:Fahrschule Alkoven\, Hochfeldstraße 1\, Alkoven\, 4072
CATEGORIES:Auto
END:VEVENT
BEGIN:VEVENT
DTSTART;TZID=Europe/Berlin:20241227T163000
DTEND;TZID=Europe/Berlin:20241227T195000
DTSTAMP:20260420T112653
CREATED:20241009T161530Z
LAST-MODIFIED:20241218T085000Z
UID:10004524-1735317000-1735329000@www.fahrschule-alkoven.at
SUMMARY:Auto
DESCRIPTION:Schnellkurs Weihnachten 16.30 – 19.50 \n 
URL:https://www.fahrschule-alkoven.at/event/auto-13/
LOCATION:Fahrschule Alkoven\, Hochfeldstraße 1\, Alkoven\, 4072
CATEGORIES:Auto
END:VEVENT
BEGIN:VEVENT
DTSTART;TZID=Europe/Berlin:20241230T173000
DTEND;TZID=Europe/Berlin:20241230T205000
DTSTAMP:20260420T112653
CREATED:20241009T161657Z
LAST-MODIFIED:20241218T084952Z
UID:10004525-1735579800-1735591800@www.fahrschule-alkoven.at
SUMMARY:Auto
DESCRIPTION:Schnellkurs Weihnachten 17.30 – 20.50 \n 
URL:https://www.fahrschule-alkoven.at/event/auto-14/
LOCATION:Fahrschule Alkoven\, Hochfeldstraße 1\, Alkoven\, 4072
CATEGORIES:Auto
END:VEVENT
BEGIN:VEVENT
DTSTART;VALUE=DATE:20241231
DTEND;VALUE=DATE:20250102
DTSTAMP:20260420T112653
CREATED:20241009T161247Z
LAST-MODIFIED:20241218T084942Z
UID:10004523-1735603200-1735775999@www.fahrschule-alkoven.at
SUMMARY:Geschlossen
DESCRIPTION:  \n 
URL:https://www.fahrschule-alkoven.at/event/auto-12/
LOCATION:Fahrschule Alkoven\, Hochfeldstraße 1\, Alkoven\, 4072
CATEGORIES:Auto
END:VEVENT
END:VCALENDAR