BEGIN:VCALENDAR
VERSION:2.0
PRODID:-//fahrschule-alkoven.at - ECPv6.11.2//NONSGML v1.0//EN
CALSCALE:GREGORIAN
METHOD:PUBLISH
X-ORIGINAL-URL:https://www.fahrschule-alkoven.at
X-WR-CALDESC:Veranstaltungen für fahrschule-alkoven.at
REFRESH-INTERVAL;VALUE=DURATION:PT1H
X-Robots-Tag:noindex
X-PUBLISHED-TTL:PT1H
BEGIN:VTIMEZONE
TZID:Europe/Berlin
BEGIN:DAYLIGHT
TZOFFSETFROM:+0100
TZOFFSETTO:+0200
TZNAME:CEST
DTSTART:20240331T010000
END:DAYLIGHT
BEGIN:STANDARD
TZOFFSETFROM:+0200
TZOFFSETTO:+0100
TZNAME:CET
DTSTART:20241027T010000
END:STANDARD
END:VTIMEZONE
BEGIN:VEVENT
DTSTART;VALUE=DATE:20240906
DTEND;VALUE=DATE:20240907
DTSTAMP:20260422T120854
CREATED:20240910T084716Z
LAST-MODIFIED:20241211T084810Z
UID:10001830-1725580800-1725667199@www.fahrschule-alkoven.at
SUMMARY:Praxis Prüfungstermin
DESCRIPTION:
URL:https://www.fahrschule-alkoven.at/event/pruefungstermin-praxis/2024-09-06/
CATEGORIES:Prüfungstermin Praxis
END:VEVENT
BEGIN:VEVENT
DTSTART;TZID=Europe/Berlin:20240909T180000
DTEND;TZID=Europe/Berlin:20240909T203000
DTSTAMP:20260422T120854
CREATED:20240823T080536Z
LAST-MODIFIED:20250312T154119Z
UID:10001493-1725904800-1725913800@www.fahrschule-alkoven.at
SUMMARY:LKW
DESCRIPTION:3. Wo-Kurse/ Mo u. Mi./ 18.00-20.30 Uhr \nStart: 09.09.24 / 11.11.2024 / 13.01.25
URL:https://www.fahrschule-alkoven.at/event/auto-3/2024-09-09/
LOCATION:Fahrschule Alkoven\, Hochfeldstraße 1\, Alkoven\, 4072
CATEGORIES:LKW
END:VEVENT
BEGIN:VEVENT
DTSTART;TZID=Europe/Berlin:20240911T180000
DTEND;TZID=Europe/Berlin:20240911T203000
DTSTAMP:20260422T120854
CREATED:20240823T080536Z
LAST-MODIFIED:20250312T154119Z
UID:10001494-1726077600-1726086600@www.fahrschule-alkoven.at
SUMMARY:LKW
DESCRIPTION:3. Wo-Kurse/ Mo u. Mi./ 18.00-20.30 Uhr \nStart: 09.09.24 / 11.11.2024 / 13.01.25
URL:https://www.fahrschule-alkoven.at/event/auto-3/2024-09-11/
LOCATION:Fahrschule Alkoven\, Hochfeldstraße 1\, Alkoven\, 4072
CATEGORIES:LKW
END:VEVENT
BEGIN:VEVENT
DTSTART;TZID=Europe/Berlin:20240912T133000
DTEND;TZID=Europe/Berlin:20240912T170000
DTSTAMP:20260422T120854
CREATED:20240820T103422Z
LAST-MODIFIED:20240821T065302Z
UID:10001049-1726147800-1726160400@www.fahrschule-alkoven.at
SUMMARY:Theorie Prüfungstermin
DESCRIPTION:
URL:https://www.fahrschule-alkoven.at/event/pruefungstermin-theorie/2024-09-12/
CATEGORIES:Prüfungstermin Theorie
END:VEVENT
BEGIN:VEVENT
DTSTART;VALUE=DATE:20240913
DTEND;VALUE=DATE:20240914
DTSTAMP:20260422T120854
CREATED:20240910T084716Z
LAST-MODIFIED:20241211T084810Z
UID:10001831-1726185600-1726271999@www.fahrschule-alkoven.at
SUMMARY:Praxis Prüfungstermin
DESCRIPTION:
URL:https://www.fahrschule-alkoven.at/event/pruefungstermin-praxis/2024-09-13/
CATEGORIES:Prüfungstermin Praxis
END:VEVENT
BEGIN:VEVENT
DTSTART;TZID=Europe/Berlin:20240916T180000
DTEND;TZID=Europe/Berlin:20240916T203000
DTSTAMP:20260422T120854
CREATED:20240823T080536Z
LAST-MODIFIED:20250312T154119Z
UID:10001495-1726509600-1726518600@www.fahrschule-alkoven.at
SUMMARY:LKW
DESCRIPTION:3. Wo-Kurse/ Mo u. Mi./ 18.00-20.30 Uhr \nStart: 09.09.24 / 11.11.2024 / 13.01.25
URL:https://www.fahrschule-alkoven.at/event/auto-3/2024-09-16/
LOCATION:Fahrschule Alkoven\, Hochfeldstraße 1\, Alkoven\, 4072
CATEGORIES:LKW
END:VEVENT
BEGIN:VEVENT
DTSTART;TZID=Europe/Berlin:20240917T180000
DTEND;TZID=Europe/Berlin:20240917T203000
DTSTAMP:20260422T120854
CREATED:20240910T091816Z
LAST-MODIFIED:20250312T112422Z
UID:10001547-1726596000-1726605000@www.fahrschule-alkoven.at
SUMMARY:Moped
DESCRIPTION:Teil 1 – 17.09.24 & Teil 2 – 26.09.24
URL:https://www.fahrschule-alkoven.at/event/moped-2/
LOCATION:Fahrschule Alkoven\, Hochfeldstraße 1\, Alkoven\, 4072
CATEGORIES:Moped
END:VEVENT
BEGIN:VEVENT
DTSTART;TZID=Europe/Berlin:20240917T180000
DTEND;TZID=Europe/Berlin:20240917T203000
DTSTAMP:20260422T120854
CREATED:20240910T093359Z
LAST-MODIFIED:20250312T111311Z
UID:10001453-1726596000-1726605000@www.fahrschule-alkoven.at
SUMMARY:Auto Kursstart
DESCRIPTION:5 Wo-Kurse / DI u. DO / 18:00 – 20:30 Uhr \nStart: 17.09.24 / 28.10.24 / 07.01.25
URL:https://www.fahrschule-alkoven.at/event/auto-4/
LOCATION:Fahrschule Alkoven\, Hochfeldstraße 1\, Alkoven\, 4072
CATEGORIES:Auto
END:VEVENT
BEGIN:VEVENT
DTSTART;TZID=Europe/Berlin:20240918T180000
DTEND;TZID=Europe/Berlin:20240918T203000
DTSTAMP:20260422T120854
CREATED:20240823T080536Z
LAST-MODIFIED:20250312T154119Z
UID:10001496-1726682400-1726691400@www.fahrschule-alkoven.at
SUMMARY:LKW
DESCRIPTION:3. Wo-Kurse/ Mo u. Mi./ 18.00-20.30 Uhr \nStart: 09.09.24 / 11.11.2024 / 13.01.25
URL:https://www.fahrschule-alkoven.at/event/auto-3/2024-09-18/
LOCATION:Fahrschule Alkoven\, Hochfeldstraße 1\, Alkoven\, 4072
CATEGORIES:LKW
END:VEVENT
BEGIN:VEVENT
DTSTART;VALUE=DATE:20240920
DTEND;VALUE=DATE:20240921
DTSTAMP:20260422T120854
CREATED:20240910T084716Z
LAST-MODIFIED:20241211T084810Z
UID:10001832-1726790400-1726876799@www.fahrschule-alkoven.at
SUMMARY:Praxis Prüfungstermin
DESCRIPTION:
URL:https://www.fahrschule-alkoven.at/event/pruefungstermin-praxis/2024-09-20/
CATEGORIES:Prüfungstermin Praxis
END:VEVENT
BEGIN:VEVENT
DTSTART;TZID=Europe/Berlin:20240923T180000
DTEND;TZID=Europe/Berlin:20240923T203000
DTSTAMP:20260422T120854
CREATED:20240823T080536Z
LAST-MODIFIED:20250312T154119Z
UID:10001497-1727114400-1727123400@www.fahrschule-alkoven.at
SUMMARY:LKW
DESCRIPTION:3. Wo-Kurse/ Mo u. Mi./ 18.00-20.30 Uhr \nStart: 09.09.24 / 11.11.2024 / 13.01.25
URL:https://www.fahrschule-alkoven.at/event/auto-3/2024-09-23/
LOCATION:Fahrschule Alkoven\, Hochfeldstraße 1\, Alkoven\, 4072
CATEGORIES:LKW
END:VEVENT
BEGIN:VEVENT
DTSTART;TZID=Europe/Berlin:20240924T180000
DTEND;TZID=Europe/Berlin:20240924T203000
DTSTAMP:20260422T120854
CREATED:20240916T083903Z
LAST-MODIFIED:20250312T111314Z
UID:10001455-1727200800-1727209800@www.fahrschule-alkoven.at
SUMMARY:Auto
DESCRIPTION:5. Wo- Kurse / DI u. Do / 18.00-20.30 Uhr \n 
URL:https://www.fahrschule-alkoven.at/event/auto-8/
LOCATION:Fahrschule Alkoven\, Hochfeldstraße 1\, Alkoven\, 4072
CATEGORIES:Auto
END:VEVENT
BEGIN:VEVENT
DTSTART;TZID=Europe/Berlin:20240925T180000
DTEND;TZID=Europe/Berlin:20240925T203000
DTSTAMP:20260422T120854
CREATED:20240823T080536Z
LAST-MODIFIED:20250312T154119Z
UID:10001498-1727287200-1727296200@www.fahrschule-alkoven.at
SUMMARY:LKW
DESCRIPTION:3. Wo-Kurse/ Mo u. Mi./ 18.00-20.30 Uhr \nStart: 09.09.24 / 11.11.2024 / 13.01.25
URL:https://www.fahrschule-alkoven.at/event/auto-3/2024-09-25/
LOCATION:Fahrschule Alkoven\, Hochfeldstraße 1\, Alkoven\, 4072
CATEGORIES:LKW
END:VEVENT
BEGIN:VEVENT
DTSTART;TZID=Europe/Berlin:20240926T133000
DTEND;TZID=Europe/Berlin:20240926T170000
DTSTAMP:20260422T120854
CREATED:20240820T103422Z
LAST-MODIFIED:20240821T065302Z
UID:10001050-1727357400-1727370000@www.fahrschule-alkoven.at
SUMMARY:Theorie Prüfungstermin
DESCRIPTION:
URL:https://www.fahrschule-alkoven.at/event/pruefungstermin-theorie/2024-09-26/
CATEGORIES:Prüfungstermin Theorie
END:VEVENT
BEGIN:VEVENT
DTSTART;TZID=Europe/Berlin:20240926T180000
DTEND;TZID=Europe/Berlin:20240926T203000
DTSTAMP:20260422T120854
CREATED:20240910T092000Z
LAST-MODIFIED:20250312T111316Z
UID:10002091-1727373600-1727382600@www.fahrschule-alkoven.at
SUMMARY:Moped
DESCRIPTION:Teil 2
URL:https://www.fahrschule-alkoven.at/event/moped-3/
LOCATION:Fahrschule Alkoven\, Hochfeldstraße 1\, Alkoven\, 4072
CATEGORIES:Moped
END:VEVENT
BEGIN:VEVENT
DTSTART;TZID=Europe/Berlin:20240926T180000
DTEND;TZID=Europe/Berlin:20240926T203000
DTSTAMP:20260422T120854
CREATED:20240916T084040Z
LAST-MODIFIED:20250312T111319Z
UID:10001456-1727373600-1727382600@www.fahrschule-alkoven.at
SUMMARY:Auto
DESCRIPTION:5. Wo- Kurse / DI u. Do / 18.00-20.30 Uhr \n 
URL:https://www.fahrschule-alkoven.at/event/auto-9/
LOCATION:Fahrschule Alkoven\, Hochfeldstraße 1\, Alkoven\, 4072
CATEGORIES:Auto
END:VEVENT
BEGIN:VEVENT
DTSTART;VALUE=DATE:20240927
DTEND;VALUE=DATE:20240928
DTSTAMP:20260422T120854
CREATED:20240910T084716Z
LAST-MODIFIED:20241211T084810Z
UID:10001833-1727395200-1727481599@www.fahrschule-alkoven.at
SUMMARY:Praxis Prüfungstermin
DESCRIPTION:
URL:https://www.fahrschule-alkoven.at/event/pruefungstermin-praxis/2024-09-27/
CATEGORIES:Prüfungstermin Praxis
END:VEVENT
END:VCALENDAR