BEGIN:VCALENDAR
VERSION:2.0
PRODID:-//fahrschule-alkoven.at - ECPv6.11.2//NONSGML v1.0//EN
CALSCALE:GREGORIAN
METHOD:PUBLISH
X-ORIGINAL-URL:https://www.fahrschule-alkoven.at
X-WR-CALDESC:Veranstaltungen für fahrschule-alkoven.at
REFRESH-INTERVAL;VALUE=DURATION:PT1H
X-Robots-Tag:noindex
X-PUBLISHED-TTL:PT1H
BEGIN:VTIMEZONE
TZID:Europe/Berlin
BEGIN:DAYLIGHT
TZOFFSETFROM:+0100
TZOFFSETTO:+0200
TZNAME:CEST
DTSTART:20240331T010000
END:DAYLIGHT
BEGIN:STANDARD
TZOFFSETFROM:+0200
TZOFFSETTO:+0100
TZNAME:CET
DTSTART:20241027T010000
END:STANDARD
END:VTIMEZONE
BEGIN:VEVENT
DTSTART;VALUE=DATE:20240823
DTEND;VALUE=DATE:20240824
DTSTAMP:20260422T133907
CREATED:20240910T084716Z
LAST-MODIFIED:20241211T084810Z
UID:10000527-1724371200-1724457599@www.fahrschule-alkoven.at
SUMMARY:Praxis Prüfungstermin
DESCRIPTION:
URL:https://www.fahrschule-alkoven.at/event/pruefungstermin-praxis/2024-08-23/1/
CATEGORIES:Prüfungstermin Praxis
END:VEVENT
BEGIN:VEVENT
DTSTART;VALUE=DATE:20240823
DTEND;VALUE=DATE:20240824
DTSTAMP:20260422T133907
CREATED:20240910T084716Z
LAST-MODIFIED:20241211T084810Z
UID:10004805-1724400000-1724432400@www.fahrschule-alkoven.at
SUMMARY:Praxis Prüfungstermin
DESCRIPTION:
URL:https://www.fahrschule-alkoven.at/event/pruefungstermin-praxis/2024-08-23/2/
CATEGORIES:Prüfungstermin Praxis
END:VEVENT
BEGIN:VEVENT
DTSTART;TZID=Europe/Berlin:20240829T133000
DTEND;TZID=Europe/Berlin:20240829T170000
DTSTAMP:20260422T133907
CREATED:20240820T103422Z
LAST-MODIFIED:20240821T065302Z
UID:10000008-1724938200-1724950800@www.fahrschule-alkoven.at
SUMMARY:Theorie Prüfungstermin
DESCRIPTION:
URL:https://www.fahrschule-alkoven.at/event/pruefungstermin-theorie/2024-08-29/
CATEGORIES:Prüfungstermin Theorie
END:VEVENT
BEGIN:VEVENT
DTSTART;VALUE=DATE:20240830
DTEND;VALUE=DATE:20240831
DTSTAMP:20260422T133907
CREATED:20240910T084716Z
LAST-MODIFIED:20241211T084810Z
UID:10001829-1724976000-1725062399@www.fahrschule-alkoven.at
SUMMARY:Praxis Prüfungstermin
DESCRIPTION:
URL:https://www.fahrschule-alkoven.at/event/pruefungstermin-praxis/2024-08-30/
CATEGORIES:Prüfungstermin Praxis
END:VEVENT
END:VCALENDAR