BEGIN:VCALENDAR
VERSION:2.0
PRODID:-//fahrschule-alkoven.at - ECPv6.11.2//NONSGML v1.0//EN
CALSCALE:GREGORIAN
METHOD:PUBLISH
X-WR-CALNAME:fahrschule-alkoven.at
X-ORIGINAL-URL:https://www.fahrschule-alkoven.at
X-WR-CALDESC:Veranstaltungen für fahrschule-alkoven.at
REFRESH-INTERVAL;VALUE=DURATION:PT1H
X-Robots-Tag:noindex
X-PUBLISHED-TTL:PT1H
BEGIN:VTIMEZONE
TZID:Europe/Berlin
BEGIN:DAYLIGHT
TZOFFSETFROM:+0100
TZOFFSETTO:+0200
TZNAME:CEST
DTSTART:20280326T010000
END:DAYLIGHT
BEGIN:STANDARD
TZOFFSETFROM:+0200
TZOFFSETTO:+0100
TZNAME:CET
DTSTART:20281029T010000
END:STANDARD
BEGIN:DAYLIGHT
TZOFFSETFROM:+0100
TZOFFSETTO:+0200
TZNAME:CEST
DTSTART:20290325T010000
END:DAYLIGHT
BEGIN:STANDARD
TZOFFSETFROM:+0200
TZOFFSETTO:+0100
TZNAME:CET
DTSTART:20291028T010000
END:STANDARD
BEGIN:DAYLIGHT
TZOFFSETFROM:+0100
TZOFFSETTO:+0200
TZNAME:CEST
DTSTART:20300331T010000
END:DAYLIGHT
BEGIN:STANDARD
TZOFFSETFROM:+0200
TZOFFSETTO:+0100
TZNAME:CET
DTSTART:20301027T010000
END:STANDARD
END:VTIMEZONE
BEGIN:VEVENT
DTSTART;VALUE=DATE:20281206
DTEND;VALUE=DATE:20281207
DTSTAMP:20260423T014249
CREATED:20250226T095454Z
LAST-MODIFIED:20250313T073346Z
UID:10005433-1859673600-1859759999@www.fahrschule-alkoven.at
SUMMARY:Praxis Prüfungstermin
DESCRIPTION:
URL:https://www.fahrschule-alkoven.at/event/pruefungstermin-praxis-2/2028-12-06/
CATEGORIES:Prüfungstermin Praxis
END:VEVENT
BEGIN:VEVENT
DTSTART;VALUE=DATE:20281220
DTEND;VALUE=DATE:20281221
DTSTAMP:20260423T014249
CREATED:20250226T095454Z
LAST-MODIFIED:20250313T073346Z
UID:10005434-1860883200-1860969599@www.fahrschule-alkoven.at
SUMMARY:Praxis Prüfungstermin
DESCRIPTION:
URL:https://www.fahrschule-alkoven.at/event/pruefungstermin-praxis-2/2028-12-20/
CATEGORIES:Prüfungstermin Praxis
END:VEVENT
BEGIN:VEVENT
DTSTART;VALUE=DATE:20290103
DTEND;VALUE=DATE:20290104
DTSTAMP:20260423T014249
CREATED:20250226T095454Z
LAST-MODIFIED:20250313T073346Z
UID:10005435-1862092800-1862179199@www.fahrschule-alkoven.at
SUMMARY:Praxis Prüfungstermin
DESCRIPTION:
URL:https://www.fahrschule-alkoven.at/event/pruefungstermin-praxis-2/2029-01-03/
CATEGORIES:Prüfungstermin Praxis
END:VEVENT
BEGIN:VEVENT
DTSTART;VALUE=DATE:20290117
DTEND;VALUE=DATE:20290118
DTSTAMP:20260423T014249
CREATED:20250226T095454Z
LAST-MODIFIED:20250313T073346Z
UID:10005436-1863302400-1863388799@www.fahrschule-alkoven.at
SUMMARY:Praxis Prüfungstermin
DESCRIPTION:
URL:https://www.fahrschule-alkoven.at/event/pruefungstermin-praxis-2/2029-01-17/
CATEGORIES:Prüfungstermin Praxis
END:VEVENT
BEGIN:VEVENT
DTSTART;VALUE=DATE:20290131
DTEND;VALUE=DATE:20290201
DTSTAMP:20260423T014249
CREATED:20250226T095454Z
LAST-MODIFIED:20250313T073346Z
UID:10005437-1864512000-1864598399@www.fahrschule-alkoven.at
SUMMARY:Praxis Prüfungstermin
DESCRIPTION:
URL:https://www.fahrschule-alkoven.at/event/pruefungstermin-praxis-2/2029-01-31/
CATEGORIES:Prüfungstermin Praxis
END:VEVENT
BEGIN:VEVENT
DTSTART;VALUE=DATE:20290214
DTEND;VALUE=DATE:20290215
DTSTAMP:20260423T014249
CREATED:20250226T095454Z
LAST-MODIFIED:20250313T073346Z
UID:10005438-1865721600-1865807999@www.fahrschule-alkoven.at
SUMMARY:Praxis Prüfungstermin
DESCRIPTION:
URL:https://www.fahrschule-alkoven.at/event/pruefungstermin-praxis-2/2029-02-14/
CATEGORIES:Prüfungstermin Praxis
END:VEVENT
BEGIN:VEVENT
DTSTART;VALUE=DATE:20290228
DTEND;VALUE=DATE:20290301
DTSTAMP:20260423T014249
CREATED:20250226T095454Z
LAST-MODIFIED:20250313T073346Z
UID:10005439-1866931200-1867017599@www.fahrschule-alkoven.at
SUMMARY:Praxis Prüfungstermin
DESCRIPTION:
URL:https://www.fahrschule-alkoven.at/event/pruefungstermin-praxis-2/2029-02-28/
CATEGORIES:Prüfungstermin Praxis
END:VEVENT
BEGIN:VEVENT
DTSTART;VALUE=DATE:20290314
DTEND;VALUE=DATE:20290315
DTSTAMP:20260423T014249
CREATED:20250226T095454Z
LAST-MODIFIED:20250313T073346Z
UID:10005440-1868140800-1868227199@www.fahrschule-alkoven.at
SUMMARY:Praxis Prüfungstermin
DESCRIPTION:
URL:https://www.fahrschule-alkoven.at/event/pruefungstermin-praxis-2/2029-03-14/
CATEGORIES:Prüfungstermin Praxis
END:VEVENT
BEGIN:VEVENT
DTSTART;VALUE=DATE:20290328
DTEND;VALUE=DATE:20290329
DTSTAMP:20260423T014249
CREATED:20250226T095454Z
LAST-MODIFIED:20250313T073346Z
UID:10005441-1869350400-1869436799@www.fahrschule-alkoven.at
SUMMARY:Praxis Prüfungstermin
DESCRIPTION:
URL:https://www.fahrschule-alkoven.at/event/pruefungstermin-praxis-2/2029-03-28/
CATEGORIES:Prüfungstermin Praxis
END:VEVENT
BEGIN:VEVENT
DTSTART;VALUE=DATE:20290411
DTEND;VALUE=DATE:20290412
DTSTAMP:20260423T014249
CREATED:20250226T095454Z
LAST-MODIFIED:20250313T073346Z
UID:10005442-1870560000-1870646399@www.fahrschule-alkoven.at
SUMMARY:Praxis Prüfungstermin
DESCRIPTION:
URL:https://www.fahrschule-alkoven.at/event/pruefungstermin-praxis-2/2029-04-11/
CATEGORIES:Prüfungstermin Praxis
END:VEVENT
BEGIN:VEVENT
DTSTART;VALUE=DATE:20290425
DTEND;VALUE=DATE:20290426
DTSTAMP:20260423T014249
CREATED:20250226T095454Z
LAST-MODIFIED:20250313T073346Z
UID:10005443-1871769600-1871855999@www.fahrschule-alkoven.at
SUMMARY:Praxis Prüfungstermin
DESCRIPTION:
URL:https://www.fahrschule-alkoven.at/event/pruefungstermin-praxis-2/2029-04-25/
CATEGORIES:Prüfungstermin Praxis
END:VEVENT
BEGIN:VEVENT
DTSTART;VALUE=DATE:20290509
DTEND;VALUE=DATE:20290510
DTSTAMP:20260423T014249
CREATED:20250226T095454Z
LAST-MODIFIED:20250313T073346Z
UID:10005444-1872979200-1873065599@www.fahrschule-alkoven.at
SUMMARY:Praxis Prüfungstermin
DESCRIPTION:
URL:https://www.fahrschule-alkoven.at/event/pruefungstermin-praxis-2/2029-05-09/
CATEGORIES:Prüfungstermin Praxis
END:VEVENT
BEGIN:VEVENT
DTSTART;VALUE=DATE:20290523
DTEND;VALUE=DATE:20290524
DTSTAMP:20260423T014249
CREATED:20250226T095454Z
LAST-MODIFIED:20250313T073346Z
UID:10005445-1874188800-1874275199@www.fahrschule-alkoven.at
SUMMARY:Praxis Prüfungstermin
DESCRIPTION:
URL:https://www.fahrschule-alkoven.at/event/pruefungstermin-praxis-2/2029-05-23/
CATEGORIES:Prüfungstermin Praxis
END:VEVENT
BEGIN:VEVENT
DTSTART;VALUE=DATE:20290606
DTEND;VALUE=DATE:20290607
DTSTAMP:20260423T014249
CREATED:20250226T095454Z
LAST-MODIFIED:20250313T073346Z
UID:10005446-1875398400-1875484799@www.fahrschule-alkoven.at
SUMMARY:Praxis Prüfungstermin
DESCRIPTION:
URL:https://www.fahrschule-alkoven.at/event/pruefungstermin-praxis-2/2029-06-06/
CATEGORIES:Prüfungstermin Praxis
END:VEVENT
BEGIN:VEVENT
DTSTART;VALUE=DATE:20290620
DTEND;VALUE=DATE:20290621
DTSTAMP:20260423T014249
CREATED:20250226T095454Z
LAST-MODIFIED:20250313T073346Z
UID:10005447-1876608000-1876694399@www.fahrschule-alkoven.at
SUMMARY:Praxis Prüfungstermin
DESCRIPTION:
URL:https://www.fahrschule-alkoven.at/event/pruefungstermin-praxis-2/2029-06-20/
CATEGORIES:Prüfungstermin Praxis
END:VEVENT
BEGIN:VEVENT
DTSTART;VALUE=DATE:20290704
DTEND;VALUE=DATE:20290705
DTSTAMP:20260423T014249
CREATED:20250226T095454Z
LAST-MODIFIED:20250313T073346Z
UID:10005448-1877817600-1877903999@www.fahrschule-alkoven.at
SUMMARY:Praxis Prüfungstermin
DESCRIPTION:
URL:https://www.fahrschule-alkoven.at/event/pruefungstermin-praxis-2/2029-07-04/
CATEGORIES:Prüfungstermin Praxis
END:VEVENT
BEGIN:VEVENT
DTSTART;VALUE=DATE:20290718
DTEND;VALUE=DATE:20290719
DTSTAMP:20260423T014249
CREATED:20250226T095454Z
LAST-MODIFIED:20250313T073346Z
UID:10005449-1879027200-1879113599@www.fahrschule-alkoven.at
SUMMARY:Praxis Prüfungstermin
DESCRIPTION:
URL:https://www.fahrschule-alkoven.at/event/pruefungstermin-praxis-2/2029-07-18/
CATEGORIES:Prüfungstermin Praxis
END:VEVENT
BEGIN:VEVENT
DTSTART;VALUE=DATE:20290801
DTEND;VALUE=DATE:20290802
DTSTAMP:20260423T014249
CREATED:20250226T095454Z
LAST-MODIFIED:20250313T073346Z
UID:10005450-1880236800-1880323199@www.fahrschule-alkoven.at
SUMMARY:Praxis Prüfungstermin
DESCRIPTION:
URL:https://www.fahrschule-alkoven.at/event/pruefungstermin-praxis-2/2029-08-01/
CATEGORIES:Prüfungstermin Praxis
END:VEVENT
BEGIN:VEVENT
DTSTART;VALUE=DATE:20290815
DTEND;VALUE=DATE:20290816
DTSTAMP:20260423T014249
CREATED:20250226T095454Z
LAST-MODIFIED:20250313T073346Z
UID:10005451-1881446400-1881532799@www.fahrschule-alkoven.at
SUMMARY:Praxis Prüfungstermin
DESCRIPTION:
URL:https://www.fahrschule-alkoven.at/event/pruefungstermin-praxis-2/2029-08-15/
CATEGORIES:Prüfungstermin Praxis
END:VEVENT
BEGIN:VEVENT
DTSTART;VALUE=DATE:20290829
DTEND;VALUE=DATE:20290830
DTSTAMP:20260423T014249
CREATED:20250226T095454Z
LAST-MODIFIED:20250313T073346Z
UID:10005452-1882656000-1882742399@www.fahrschule-alkoven.at
SUMMARY:Praxis Prüfungstermin
DESCRIPTION:
URL:https://www.fahrschule-alkoven.at/event/pruefungstermin-praxis-2/2029-08-29/
CATEGORIES:Prüfungstermin Praxis
END:VEVENT
BEGIN:VEVENT
DTSTART;VALUE=DATE:20290912
DTEND;VALUE=DATE:20290913
DTSTAMP:20260423T014249
CREATED:20250226T095454Z
LAST-MODIFIED:20250313T073346Z
UID:10005453-1883865600-1883951999@www.fahrschule-alkoven.at
SUMMARY:Praxis Prüfungstermin
DESCRIPTION:
URL:https://www.fahrschule-alkoven.at/event/pruefungstermin-praxis-2/2029-09-12/
CATEGORIES:Prüfungstermin Praxis
END:VEVENT
BEGIN:VEVENT
DTSTART;VALUE=DATE:20290926
DTEND;VALUE=DATE:20290927
DTSTAMP:20260423T014249
CREATED:20250226T095454Z
LAST-MODIFIED:20250313T073346Z
UID:10005454-1885075200-1885161599@www.fahrschule-alkoven.at
SUMMARY:Praxis Prüfungstermin
DESCRIPTION:
URL:https://www.fahrschule-alkoven.at/event/pruefungstermin-praxis-2/2029-09-26/
CATEGORIES:Prüfungstermin Praxis
END:VEVENT
BEGIN:VEVENT
DTSTART;VALUE=DATE:20291010
DTEND;VALUE=DATE:20291011
DTSTAMP:20260423T014249
CREATED:20250226T095454Z
LAST-MODIFIED:20250313T073346Z
UID:10005455-1886284800-1886371199@www.fahrschule-alkoven.at
SUMMARY:Praxis Prüfungstermin
DESCRIPTION:
URL:https://www.fahrschule-alkoven.at/event/pruefungstermin-praxis-2/2029-10-10/
CATEGORIES:Prüfungstermin Praxis
END:VEVENT
BEGIN:VEVENT
DTSTART;VALUE=DATE:20291024
DTEND;VALUE=DATE:20291025
DTSTAMP:20260423T014249
CREATED:20250226T095454Z
LAST-MODIFIED:20250313T073346Z
UID:10005456-1887494400-1887580799@www.fahrschule-alkoven.at
SUMMARY:Praxis Prüfungstermin
DESCRIPTION:
URL:https://www.fahrschule-alkoven.at/event/pruefungstermin-praxis-2/2029-10-24/
CATEGORIES:Prüfungstermin Praxis
END:VEVENT
BEGIN:VEVENT
DTSTART;VALUE=DATE:20291107
DTEND;VALUE=DATE:20291108
DTSTAMP:20260423T014249
CREATED:20250226T095454Z
LAST-MODIFIED:20250313T073346Z
UID:10005457-1888704000-1888790399@www.fahrschule-alkoven.at
SUMMARY:Praxis Prüfungstermin
DESCRIPTION:
URL:https://www.fahrschule-alkoven.at/event/pruefungstermin-praxis-2/2029-11-07/
CATEGORIES:Prüfungstermin Praxis
END:VEVENT
BEGIN:VEVENT
DTSTART;VALUE=DATE:20291121
DTEND;VALUE=DATE:20291122
DTSTAMP:20260423T014249
CREATED:20250226T095454Z
LAST-MODIFIED:20250313T073346Z
UID:10005458-1889913600-1889999999@www.fahrschule-alkoven.at
SUMMARY:Praxis Prüfungstermin
DESCRIPTION:
URL:https://www.fahrschule-alkoven.at/event/pruefungstermin-praxis-2/2029-11-21/
CATEGORIES:Prüfungstermin Praxis
END:VEVENT
BEGIN:VEVENT
DTSTART;VALUE=DATE:20291205
DTEND;VALUE=DATE:20291206
DTSTAMP:20260423T014249
CREATED:20250226T095454Z
LAST-MODIFIED:20250313T073346Z
UID:10005459-1891123200-1891209599@www.fahrschule-alkoven.at
SUMMARY:Praxis Prüfungstermin
DESCRIPTION:
URL:https://www.fahrschule-alkoven.at/event/pruefungstermin-praxis-2/2029-12-05/
CATEGORIES:Prüfungstermin Praxis
END:VEVENT
BEGIN:VEVENT
DTSTART;VALUE=DATE:20291219
DTEND;VALUE=DATE:20291220
DTSTAMP:20260423T014249
CREATED:20250226T095454Z
LAST-MODIFIED:20250313T073346Z
UID:10005460-1892332800-1892419199@www.fahrschule-alkoven.at
SUMMARY:Praxis Prüfungstermin
DESCRIPTION:
URL:https://www.fahrschule-alkoven.at/event/pruefungstermin-praxis-2/2029-12-19/
CATEGORIES:Prüfungstermin Praxis
END:VEVENT
BEGIN:VEVENT
DTSTART;VALUE=DATE:20300102
DTEND;VALUE=DATE:20300103
DTSTAMP:20260423T014249
CREATED:20250226T095454Z
LAST-MODIFIED:20250313T073346Z
UID:10005461-1893542400-1893628799@www.fahrschule-alkoven.at
SUMMARY:Praxis Prüfungstermin
DESCRIPTION:
URL:https://www.fahrschule-alkoven.at/event/pruefungstermin-praxis-2/2030-01-02/
CATEGORIES:Prüfungstermin Praxis
END:VEVENT
BEGIN:VEVENT
DTSTART;VALUE=DATE:20300116
DTEND;VALUE=DATE:20300117
DTSTAMP:20260423T014249
CREATED:20250226T095454Z
LAST-MODIFIED:20250313T073346Z
UID:10005462-1894752000-1894838399@www.fahrschule-alkoven.at
SUMMARY:Praxis Prüfungstermin
DESCRIPTION:
URL:https://www.fahrschule-alkoven.at/event/pruefungstermin-praxis-2/2030-01-16/
CATEGORIES:Prüfungstermin Praxis
END:VEVENT
END:VCALENDAR