BEGIN:VCALENDAR
VERSION:2.0
PRODID:-//fahrschule-alkoven.at - ECPv6.11.2//NONSGML v1.0//EN
CALSCALE:GREGORIAN
METHOD:PUBLISH
X-ORIGINAL-URL:https://www.fahrschule-alkoven.at
X-WR-CALDESC:Veranstaltungen für fahrschule-alkoven.at
REFRESH-INTERVAL;VALUE=DURATION:PT1H
X-Robots-Tag:noindex
X-PUBLISHED-TTL:PT1H
BEGIN:VTIMEZONE
TZID:Europe/Berlin
BEGIN:DAYLIGHT
TZOFFSETFROM:+0100
TZOFFSETTO:+0200
TZNAME:CEST
DTSTART:20260329T010000
END:DAYLIGHT
BEGIN:STANDARD
TZOFFSETFROM:+0200
TZOFFSETTO:+0100
TZNAME:CET
DTSTART:20261025T010000
END:STANDARD
BEGIN:DAYLIGHT
TZOFFSETFROM:+0100
TZOFFSETTO:+0200
TZNAME:CEST
DTSTART:20270328T010000
END:DAYLIGHT
BEGIN:STANDARD
TZOFFSETFROM:+0200
TZOFFSETTO:+0100
TZNAME:CET
DTSTART:20271031T010000
END:STANDARD
END:VTIMEZONE
BEGIN:VEVENT
DTSTART;TZID=Europe/Berlin:20261217T180000
DTEND;TZID=Europe/Berlin:20261217T203000
DTSTAMP:20260422T182128
CREATED:20251029T153005Z
LAST-MODIFIED:20251029T153005Z
UID:10006766-1797530400-1797539400@www.fahrschule-alkoven.at
SUMMARY:Auto
DESCRIPTION:Weihnacht – Schnellkurs
URL:https://www.fahrschule-alkoven.at/event/auto-68/2026-12-17/
CATEGORIES:Auto
END:VEVENT
BEGIN:VEVENT
DTSTART;TZID=Europe/Berlin:20261221T180000
DTEND;TZID=Europe/Berlin:20261221T203000
DTSTAMP:20260422T182128
CREATED:20251029T153005Z
LAST-MODIFIED:20251029T153005Z
UID:10006767-1797876000-1797885000@www.fahrschule-alkoven.at
SUMMARY:Auto
DESCRIPTION:Weihnacht – Schnellkurs
URL:https://www.fahrschule-alkoven.at/event/auto-68/2026-12-21/
CATEGORIES:Auto
END:VEVENT
BEGIN:VEVENT
DTSTART;TZID=Europe/Berlin:20261222T180000
DTEND;TZID=Europe/Berlin:20261222T203000
DTSTAMP:20260422T182128
CREATED:20251029T153005Z
LAST-MODIFIED:20251029T153005Z
UID:10006768-1797962400-1797971400@www.fahrschule-alkoven.at
SUMMARY:Auto
DESCRIPTION:Weihnacht – Schnellkurs
URL:https://www.fahrschule-alkoven.at/event/auto-68/2026-12-22/
CATEGORIES:Auto
END:VEVENT
BEGIN:VEVENT
DTSTART;VALUE=DATE:20261223
DTEND;VALUE=DATE:20261224
DTSTAMP:20260422T182128
CREATED:20250226T095454Z
LAST-MODIFIED:20250313T073346Z
UID:10005382-1797984000-1798070399@www.fahrschule-alkoven.at
SUMMARY:Praxis Prüfungstermin
DESCRIPTION:
URL:https://www.fahrschule-alkoven.at/event/pruefungstermin-praxis-2/2026-12-23/
CATEGORIES:Prüfungstermin Praxis
END:VEVENT
BEGIN:VEVENT
DTSTART;TZID=Europe/Berlin:20261223T180000
DTEND;TZID=Europe/Berlin:20261223T194000
DTSTAMP:20260422T182128
CREATED:20251029T153005Z
LAST-MODIFIED:20251029T153005Z
UID:10006769-1798048800-1798054800@www.fahrschule-alkoven.at
SUMMARY:Auto
DESCRIPTION:Weihnacht – Schnellkurs
URL:https://www.fahrschule-alkoven.at/event/auto-68/2026-12-23/
CATEGORIES:Auto
END:VEVENT
BEGIN:VEVENT
DTSTART;VALUE=DATE:20261224
DTEND;VALUE=DATE:20261225
DTSTAMP:20260422T182128
CREATED:20251029T155240Z
LAST-MODIFIED:20251029T155240Z
UID:10006778-1798070400-1798156799@www.fahrschule-alkoven.at
SUMMARY:Geschlossen
DESCRIPTION:Weihnachten \n 
URL:https://www.fahrschule-alkoven.at/event/geschlossen-20/2026-12-24/
LOCATION:Fahrschule Alkoven\, Hochfeldstraße 1\, Alkoven\, 4072
CATEGORIES:GESCHLOSSEN
END:VEVENT
BEGIN:VEVENT
DTSTART;VALUE=DATE:20261225
DTEND;VALUE=DATE:20261226
DTSTAMP:20260422T182128
CREATED:20251029T155240Z
LAST-MODIFIED:20251029T155240Z
UID:10006779-1798156800-1798243199@www.fahrschule-alkoven.at
SUMMARY:Geschlossen
DESCRIPTION:Weihnachten \n 
URL:https://www.fahrschule-alkoven.at/event/geschlossen-20/2026-12-25/
LOCATION:Fahrschule Alkoven\, Hochfeldstraße 1\, Alkoven\, 4072
CATEGORIES:GESCHLOSSEN
END:VEVENT
BEGIN:VEVENT
DTSTART;TZID=Europe/Berlin:20261228T170000
DTEND;TZID=Europe/Berlin:20261228T203000
DTSTAMP:20260422T182128
CREATED:20251029T153005Z
LAST-MODIFIED:20251029T153005Z
UID:10006770-1798477200-1798489800@www.fahrschule-alkoven.at
SUMMARY:Auto
DESCRIPTION:Weihnacht – Schnellkurs
URL:https://www.fahrschule-alkoven.at/event/auto-68/2026-12-28/
CATEGORIES:Auto
END:VEVENT
BEGIN:VEVENT
DTSTART;TZID=Europe/Berlin:20261229T180000
DTEND;TZID=Europe/Berlin:20261229T203000
DTSTAMP:20260422T182128
CREATED:20251029T153005Z
LAST-MODIFIED:20251029T153005Z
UID:10006771-1798567200-1798576200@www.fahrschule-alkoven.at
SUMMARY:Auto
DESCRIPTION:Weihnacht – Schnellkurs
URL:https://www.fahrschule-alkoven.at/event/auto-68/2026-12-29/
CATEGORIES:Auto
END:VEVENT
BEGIN:VEVENT
DTSTART;TZID=Europe/Berlin:20261230T170000
DTEND;TZID=Europe/Berlin:20261230T203000
DTSTAMP:20260422T182128
CREATED:20251029T153146Z
LAST-MODIFIED:20251029T153146Z
UID:10006772-1798650000-1798662600@www.fahrschule-alkoven.at
SUMMARY:Auto Kursende
DESCRIPTION:Weihnacht – Schnellkurs
URL:https://www.fahrschule-alkoven.at/event/auto-kursende-17/
LOCATION:Fahrschule Alkoven\, Hochfeldstraße 1\, Alkoven\, 4072
CATEGORIES:Auto
END:VEVENT
BEGIN:VEVENT
DTSTART;VALUE=DATE:20270106
DTEND;VALUE=DATE:20270107
DTSTAMP:20260422T182128
CREATED:20250226T095454Z
LAST-MODIFIED:20250313T073346Z
UID:10005383-1799193600-1799279999@www.fahrschule-alkoven.at
SUMMARY:Praxis Prüfungstermin
DESCRIPTION:
URL:https://www.fahrschule-alkoven.at/event/pruefungstermin-praxis-2/2027-01-06/
CATEGORIES:Prüfungstermin Praxis
END:VEVENT
BEGIN:VEVENT
DTSTART;VALUE=DATE:20270120
DTEND;VALUE=DATE:20270121
DTSTAMP:20260422T182128
CREATED:20250226T095454Z
LAST-MODIFIED:20250313T073346Z
UID:10005384-1800403200-1800489599@www.fahrschule-alkoven.at
SUMMARY:Praxis Prüfungstermin
DESCRIPTION:
URL:https://www.fahrschule-alkoven.at/event/pruefungstermin-praxis-2/2027-01-20/
CATEGORIES:Prüfungstermin Praxis
END:VEVENT
BEGIN:VEVENT
DTSTART;VALUE=DATE:20270203
DTEND;VALUE=DATE:20270204
DTSTAMP:20260422T182128
CREATED:20250226T095454Z
LAST-MODIFIED:20250313T073346Z
UID:10005385-1801612800-1801699199@www.fahrschule-alkoven.at
SUMMARY:Praxis Prüfungstermin
DESCRIPTION:
URL:https://www.fahrschule-alkoven.at/event/pruefungstermin-praxis-2/2027-02-03/
CATEGORIES:Prüfungstermin Praxis
END:VEVENT
BEGIN:VEVENT
DTSTART;VALUE=DATE:20270217
DTEND;VALUE=DATE:20270218
DTSTAMP:20260422T182128
CREATED:20250226T095454Z
LAST-MODIFIED:20250313T073346Z
UID:10005386-1802822400-1802908799@www.fahrschule-alkoven.at
SUMMARY:Praxis Prüfungstermin
DESCRIPTION:
URL:https://www.fahrschule-alkoven.at/event/pruefungstermin-praxis-2/2027-02-17/
CATEGORIES:Prüfungstermin Praxis
END:VEVENT
BEGIN:VEVENT
DTSTART;VALUE=DATE:20270303
DTEND;VALUE=DATE:20270304
DTSTAMP:20260422T182128
CREATED:20250226T095454Z
LAST-MODIFIED:20250313T073346Z
UID:10005387-1804032000-1804118399@www.fahrschule-alkoven.at
SUMMARY:Praxis Prüfungstermin
DESCRIPTION:
URL:https://www.fahrschule-alkoven.at/event/pruefungstermin-praxis-2/2027-03-03/
CATEGORIES:Prüfungstermin Praxis
END:VEVENT
BEGIN:VEVENT
DTSTART;VALUE=DATE:20270317
DTEND;VALUE=DATE:20270318
DTSTAMP:20260422T182128
CREATED:20250226T095454Z
LAST-MODIFIED:20250313T073346Z
UID:10005388-1805241600-1805327999@www.fahrschule-alkoven.at
SUMMARY:Praxis Prüfungstermin
DESCRIPTION:
URL:https://www.fahrschule-alkoven.at/event/pruefungstermin-praxis-2/2027-03-17/
CATEGORIES:Prüfungstermin Praxis
END:VEVENT
BEGIN:VEVENT
DTSTART;VALUE=DATE:20270331
DTEND;VALUE=DATE:20270401
DTSTAMP:20260422T182128
CREATED:20250226T095454Z
LAST-MODIFIED:20250313T073346Z
UID:10005389-1806451200-1806537599@www.fahrschule-alkoven.at
SUMMARY:Praxis Prüfungstermin
DESCRIPTION:
URL:https://www.fahrschule-alkoven.at/event/pruefungstermin-praxis-2/2027-03-31/
CATEGORIES:Prüfungstermin Praxis
END:VEVENT
BEGIN:VEVENT
DTSTART;VALUE=DATE:20270414
DTEND;VALUE=DATE:20270415
DTSTAMP:20260422T182128
CREATED:20250226T095454Z
LAST-MODIFIED:20250313T073346Z
UID:10005390-1807660800-1807747199@www.fahrschule-alkoven.at
SUMMARY:Praxis Prüfungstermin
DESCRIPTION:
URL:https://www.fahrschule-alkoven.at/event/pruefungstermin-praxis-2/2027-04-14/
CATEGORIES:Prüfungstermin Praxis
END:VEVENT
BEGIN:VEVENT
DTSTART;VALUE=DATE:20270428
DTEND;VALUE=DATE:20270429
DTSTAMP:20260422T182128
CREATED:20250226T095454Z
LAST-MODIFIED:20250313T073346Z
UID:10005391-1808870400-1808956799@www.fahrschule-alkoven.at
SUMMARY:Praxis Prüfungstermin
DESCRIPTION:
URL:https://www.fahrschule-alkoven.at/event/pruefungstermin-praxis-2/2027-04-28/
CATEGORIES:Prüfungstermin Praxis
END:VEVENT
BEGIN:VEVENT
DTSTART;VALUE=DATE:20270512
DTEND;VALUE=DATE:20270513
DTSTAMP:20260422T182128
CREATED:20250226T095454Z
LAST-MODIFIED:20250313T073346Z
UID:10005392-1810080000-1810166399@www.fahrschule-alkoven.at
SUMMARY:Praxis Prüfungstermin
DESCRIPTION:
URL:https://www.fahrschule-alkoven.at/event/pruefungstermin-praxis-2/2027-05-12/
CATEGORIES:Prüfungstermin Praxis
END:VEVENT
BEGIN:VEVENT
DTSTART;VALUE=DATE:20270526
DTEND;VALUE=DATE:20270527
DTSTAMP:20260422T182128
CREATED:20250226T095454Z
LAST-MODIFIED:20250313T073346Z
UID:10005393-1811289600-1811375999@www.fahrschule-alkoven.at
SUMMARY:Praxis Prüfungstermin
DESCRIPTION:
URL:https://www.fahrschule-alkoven.at/event/pruefungstermin-praxis-2/2027-05-26/
CATEGORIES:Prüfungstermin Praxis
END:VEVENT
BEGIN:VEVENT
DTSTART;VALUE=DATE:20270609
DTEND;VALUE=DATE:20270610
DTSTAMP:20260422T182128
CREATED:20250226T095454Z
LAST-MODIFIED:20250313T073346Z
UID:10005394-1812499200-1812585599@www.fahrschule-alkoven.at
SUMMARY:Praxis Prüfungstermin
DESCRIPTION:
URL:https://www.fahrschule-alkoven.at/event/pruefungstermin-praxis-2/2027-06-09/
CATEGORIES:Prüfungstermin Praxis
END:VEVENT
BEGIN:VEVENT
DTSTART;VALUE=DATE:20270623
DTEND;VALUE=DATE:20270624
DTSTAMP:20260422T182128
CREATED:20250226T095454Z
LAST-MODIFIED:20250313T073346Z
UID:10005395-1813708800-1813795199@www.fahrschule-alkoven.at
SUMMARY:Praxis Prüfungstermin
DESCRIPTION:
URL:https://www.fahrschule-alkoven.at/event/pruefungstermin-praxis-2/2027-06-23/
CATEGORIES:Prüfungstermin Praxis
END:VEVENT
BEGIN:VEVENT
DTSTART;VALUE=DATE:20270707
DTEND;VALUE=DATE:20270708
DTSTAMP:20260422T182128
CREATED:20250226T095454Z
LAST-MODIFIED:20250313T073346Z
UID:10005396-1814918400-1815004799@www.fahrschule-alkoven.at
SUMMARY:Praxis Prüfungstermin
DESCRIPTION:
URL:https://www.fahrschule-alkoven.at/event/pruefungstermin-praxis-2/2027-07-07/
CATEGORIES:Prüfungstermin Praxis
END:VEVENT
BEGIN:VEVENT
DTSTART;VALUE=DATE:20270721
DTEND;VALUE=DATE:20270722
DTSTAMP:20260422T182128
CREATED:20250226T095454Z
LAST-MODIFIED:20250313T073346Z
UID:10005397-1816128000-1816214399@www.fahrschule-alkoven.at
SUMMARY:Praxis Prüfungstermin
DESCRIPTION:
URL:https://www.fahrschule-alkoven.at/event/pruefungstermin-praxis-2/2027-07-21/
CATEGORIES:Prüfungstermin Praxis
END:VEVENT
BEGIN:VEVENT
DTSTART;VALUE=DATE:20270804
DTEND;VALUE=DATE:20270805
DTSTAMP:20260422T182128
CREATED:20250226T095454Z
LAST-MODIFIED:20250313T073346Z
UID:10005398-1817337600-1817423999@www.fahrschule-alkoven.at
SUMMARY:Praxis Prüfungstermin
DESCRIPTION:
URL:https://www.fahrschule-alkoven.at/event/pruefungstermin-praxis-2/2027-08-04/
CATEGORIES:Prüfungstermin Praxis
END:VEVENT
BEGIN:VEVENT
DTSTART;VALUE=DATE:20270818
DTEND;VALUE=DATE:20270819
DTSTAMP:20260422T182128
CREATED:20250226T095454Z
LAST-MODIFIED:20250313T073346Z
UID:10005399-1818547200-1818633599@www.fahrschule-alkoven.at
SUMMARY:Praxis Prüfungstermin
DESCRIPTION:
URL:https://www.fahrschule-alkoven.at/event/pruefungstermin-praxis-2/2027-08-18/
CATEGORIES:Prüfungstermin Praxis
END:VEVENT
BEGIN:VEVENT
DTSTART;VALUE=DATE:20270901
DTEND;VALUE=DATE:20270902
DTSTAMP:20260422T182128
CREATED:20250226T095454Z
LAST-MODIFIED:20250313T073346Z
UID:10005400-1819756800-1819843199@www.fahrschule-alkoven.at
SUMMARY:Praxis Prüfungstermin
DESCRIPTION:
URL:https://www.fahrschule-alkoven.at/event/pruefungstermin-praxis-2/2027-09-01/
CATEGORIES:Prüfungstermin Praxis
END:VEVENT
BEGIN:VEVENT
DTSTART;VALUE=DATE:20270915
DTEND;VALUE=DATE:20270916
DTSTAMP:20260422T182128
CREATED:20250226T095454Z
LAST-MODIFIED:20250313T073346Z
UID:10005401-1820966400-1821052799@www.fahrschule-alkoven.at
SUMMARY:Praxis Prüfungstermin
DESCRIPTION:
URL:https://www.fahrschule-alkoven.at/event/pruefungstermin-praxis-2/2027-09-15/
CATEGORIES:Prüfungstermin Praxis
END:VEVENT
BEGIN:VEVENT
DTSTART;VALUE=DATE:20270929
DTEND;VALUE=DATE:20270930
DTSTAMP:20260422T182128
CREATED:20250226T095454Z
LAST-MODIFIED:20250313T073346Z
UID:10005402-1822176000-1822262399@www.fahrschule-alkoven.at
SUMMARY:Praxis Prüfungstermin
DESCRIPTION:
URL:https://www.fahrschule-alkoven.at/event/pruefungstermin-praxis-2/2027-09-29/
CATEGORIES:Prüfungstermin Praxis
END:VEVENT
END:VCALENDAR