BEGIN:VCALENDAR
VERSION:2.0
PRODID:-//fahrschule-alkoven.at - ECPv6.11.2//NONSGML v1.0//EN
CALSCALE:GREGORIAN
METHOD:PUBLISH
X-WR-CALNAME:fahrschule-alkoven.at
X-ORIGINAL-URL:https://www.fahrschule-alkoven.at
X-WR-CALDESC:Veranstaltungen für fahrschule-alkoven.at
REFRESH-INTERVAL;VALUE=DURATION:PT1H
X-Robots-Tag:noindex
X-PUBLISHED-TTL:PT1H
BEGIN:VTIMEZONE
TZID:Europe/Berlin
BEGIN:DAYLIGHT
TZOFFSETFROM:+0100
TZOFFSETTO:+0200
TZNAME:CEST
DTSTART:20260329T010000
END:DAYLIGHT
BEGIN:STANDARD
TZOFFSETFROM:+0200
TZOFFSETTO:+0100
TZNAME:CET
DTSTART:20261025T010000
END:STANDARD
END:VTIMEZONE
BEGIN:VEVENT
DTSTART;TZID=Europe/Berlin:20261006T180000
DTEND;TZID=Europe/Berlin:20261006T203000
DTSTAMP:20260422T132251
CREATED:20251029T141748Z
LAST-MODIFIED:20251029T141748Z
UID:10006636-1791309600-1791318600@www.fahrschule-alkoven.at
SUMMARY:Auto
DESCRIPTION:5 Wochen – Kurs
URL:https://www.fahrschule-alkoven.at/event/auto-66/2026-10-06/
CATEGORIES:Auto
END:VEVENT
BEGIN:VEVENT
DTSTART;TZID=Europe/Berlin:20261008T180000
DTEND;TZID=Europe/Berlin:20261008T203000
DTSTAMP:20260422T132251
CREATED:20251029T141748Z
LAST-MODIFIED:20251029T141748Z
UID:10006637-1791482400-1791491400@www.fahrschule-alkoven.at
SUMMARY:Auto
DESCRIPTION:5 Wochen – Kurs
URL:https://www.fahrschule-alkoven.at/event/auto-66/2026-10-08/
CATEGORIES:Auto
END:VEVENT
BEGIN:VEVENT
DTSTART;TZID=Europe/Berlin:20261013T180000
DTEND;TZID=Europe/Berlin:20261013T203000
DTSTAMP:20260422T132251
CREATED:20251029T141748Z
LAST-MODIFIED:20251029T141748Z
UID:10006638-1791914400-1791923400@www.fahrschule-alkoven.at
SUMMARY:Auto
DESCRIPTION:5 Wochen – Kurs
URL:https://www.fahrschule-alkoven.at/event/auto-66/2026-10-13/
CATEGORIES:Auto
END:VEVENT
BEGIN:VEVENT
DTSTART;VALUE=DATE:20261014
DTEND;VALUE=DATE:20261015
DTSTAMP:20260422T132251
CREATED:20250226T095454Z
LAST-MODIFIED:20250313T073346Z
UID:10005377-1791936000-1792022399@www.fahrschule-alkoven.at
SUMMARY:Praxis Prüfungstermin
DESCRIPTION:
URL:https://www.fahrschule-alkoven.at/event/pruefungstermin-praxis-2/2026-10-14/
CATEGORIES:Prüfungstermin Praxis
END:VEVENT
BEGIN:VEVENT
DTSTART;TZID=Europe/Berlin:20261015T180000
DTEND;TZID=Europe/Berlin:20261015T203000
DTSTAMP:20260422T132251
CREATED:20251029T141912Z
LAST-MODIFIED:20251029T141944Z
UID:10006639-1792087200-1792096200@www.fahrschule-alkoven.at
SUMMARY:Auto Kursende
DESCRIPTION:5 Wochen – Kurs
URL:https://www.fahrschule-alkoven.at/event/auto-kursende-15/
LOCATION:Fahrschule Alkoven\, Hochfeldstraße 1\, Alkoven\, 4072
CATEGORIES:Auto
END:VEVENT
BEGIN:VEVENT
DTSTART;TZID=Europe/Berlin:20261027T180000
DTEND;TZID=Europe/Berlin:20261027T203000
DTSTAMP:20260422T132251
CREATED:20251029T142135Z
LAST-MODIFIED:20251029T142135Z
UID:10006640-1793124000-1793133000@www.fahrschule-alkoven.at
SUMMARY:Auto - Kursstart
DESCRIPTION:4 Wochen – Kurs
URL:https://www.fahrschule-alkoven.at/event/auto-kursstart-12/
CATEGORIES:Auto
END:VEVENT
BEGIN:VEVENT
DTSTART;VALUE=DATE:20261028
DTEND;VALUE=DATE:20261029
DTSTAMP:20260422T132251
CREATED:20250226T095454Z
LAST-MODIFIED:20250313T073346Z
UID:10005378-1793145600-1793231999@www.fahrschule-alkoven.at
SUMMARY:Praxis Prüfungstermin
DESCRIPTION:
URL:https://www.fahrschule-alkoven.at/event/pruefungstermin-praxis-2/2026-10-28/
CATEGORIES:Prüfungstermin Praxis
END:VEVENT
BEGIN:VEVENT
DTSTART;TZID=Europe/Berlin:20261028T180000
DTEND;TZID=Europe/Berlin:20261028T203000
DTSTAMP:20260422T132251
CREATED:20251029T142432Z
LAST-MODIFIED:20251029T152228Z
UID:10006752-1793210400-1793219400@www.fahrschule-alkoven.at
SUMMARY:Auto
DESCRIPTION:4 Wochen – Kurs
URL:https://www.fahrschule-alkoven.at/event/auto-67/2026-10-28/
CATEGORIES:Auto
END:VEVENT
BEGIN:VEVENT
DTSTART;TZID=Europe/Berlin:20261029T180000
DTEND;TZID=Europe/Berlin:20261029T203000
DTSTAMP:20260422T132251
CREATED:20251029T142432Z
LAST-MODIFIED:20251029T152228Z
UID:10006746-1793296800-1793305800@www.fahrschule-alkoven.at
SUMMARY:Auto
DESCRIPTION:4 Wochen – Kurs
URL:https://www.fahrschule-alkoven.at/event/auto-67/2026-10-29/
CATEGORIES:Auto
END:VEVENT
BEGIN:VEVENT
DTSTART;TZID=Europe/Berlin:20261030T163000
DTEND;TZID=Europe/Berlin:20261030T190000
DTSTAMP:20260422T132251
CREATED:20251029T142432Z
LAST-MODIFIED:20251029T152228Z
UID:10006761-1793377800-1793386800@www.fahrschule-alkoven.at
SUMMARY:Auto
DESCRIPTION:4 Wochen – Kurs
URL:https://www.fahrschule-alkoven.at/event/auto-67/2026-10-30/
CATEGORIES:Auto
END:VEVENT
BEGIN:VEVENT
DTSTART;TZID=Europe/Berlin:20261103T180000
DTEND;TZID=Europe/Berlin:20261103T203000
DTSTAMP:20260422T132251
CREATED:20251029T142432Z
LAST-MODIFIED:20251029T152228Z
UID:10006756-1793728800-1793737800@www.fahrschule-alkoven.at
SUMMARY:Auto
DESCRIPTION:4 Wochen – Kurs
URL:https://www.fahrschule-alkoven.at/event/auto-67/2026-11-03/
CATEGORIES:Auto
END:VEVENT
BEGIN:VEVENT
DTSTART;TZID=Europe/Berlin:20261104T180000
DTEND;TZID=Europe/Berlin:20261104T203000
DTSTAMP:20260422T132251
CREATED:20251029T142432Z
LAST-MODIFIED:20251029T152228Z
UID:10006753-1793815200-1793824200@www.fahrschule-alkoven.at
SUMMARY:Auto
DESCRIPTION:4 Wochen – Kurs
URL:https://www.fahrschule-alkoven.at/event/auto-67/2026-11-04/
CATEGORIES:Auto
END:VEVENT
BEGIN:VEVENT
DTSTART;TZID=Europe/Berlin:20261105T180000
DTEND;TZID=Europe/Berlin:20261105T194000
DTSTAMP:20260422T132251
CREATED:20251029T142432Z
LAST-MODIFIED:20251029T152228Z
UID:10006762-1793901600-1793907600@www.fahrschule-alkoven.at
SUMMARY:Auto
DESCRIPTION:4 Wochen – Kurs
URL:https://www.fahrschule-alkoven.at/event/auto-67/2026-11-05/
CATEGORIES:Auto
END:VEVENT
BEGIN:VEVENT
DTSTART;TZID=Europe/Berlin:20261110T180000
DTEND;TZID=Europe/Berlin:20261110T203000
DTSTAMP:20260422T132251
CREATED:20251029T142432Z
LAST-MODIFIED:20251029T152228Z
UID:10006757-1794333600-1794342600@www.fahrschule-alkoven.at
SUMMARY:Auto
DESCRIPTION:4 Wochen – Kurs
URL:https://www.fahrschule-alkoven.at/event/auto-67/2026-11-10/
CATEGORIES:Auto
END:VEVENT
BEGIN:VEVENT
DTSTART;VALUE=DATE:20261111
DTEND;VALUE=DATE:20261112
DTSTAMP:20260422T132251
CREATED:20250226T095454Z
LAST-MODIFIED:20250313T073346Z
UID:10005379-1794355200-1794441599@www.fahrschule-alkoven.at
SUMMARY:Praxis Prüfungstermin
DESCRIPTION:
URL:https://www.fahrschule-alkoven.at/event/pruefungstermin-praxis-2/2026-11-11/
CATEGORIES:Prüfungstermin Praxis
END:VEVENT
BEGIN:VEVENT
DTSTART;TZID=Europe/Berlin:20261111T180000
DTEND;TZID=Europe/Berlin:20261111T203000
DTSTAMP:20260422T132251
CREATED:20251112T092316Z
LAST-MODIFIED:20251112T092316Z
UID:10006799-1794420000-1794429000@www.fahrschule-alkoven.at
SUMMARY:Anhänger
DESCRIPTION:1 Kursabend \nEzuB\, Code 96
URL:https://www.fahrschule-alkoven.at/event/anhaenger-15/
CATEGORIES:Anhänger
END:VEVENT
BEGIN:VEVENT
DTSTART;TZID=Europe/Berlin:20261112T180000
DTEND;TZID=Europe/Berlin:20261112T203000
DTSTAMP:20260422T132251
CREATED:20251029T142432Z
LAST-MODIFIED:20251029T152228Z
UID:10006758-1794506400-1794515400@www.fahrschule-alkoven.at
SUMMARY:Auto
DESCRIPTION:4 Wochen – Kurs
URL:https://www.fahrschule-alkoven.at/event/auto-67/2026-11-12/
CATEGORIES:Auto
END:VEVENT
BEGIN:VEVENT
DTSTART;TZID=Europe/Berlin:20261117T180000
DTEND;TZID=Europe/Berlin:20261117T203000
DTSTAMP:20260422T132251
CREATED:20251029T142432Z
LAST-MODIFIED:20251029T152228Z
UID:10006759-1794938400-1794947400@www.fahrschule-alkoven.at
SUMMARY:Auto
DESCRIPTION:4 Wochen – Kurs
URL:https://www.fahrschule-alkoven.at/event/auto-67/2026-11-17/
CATEGORIES:Auto
END:VEVENT
BEGIN:VEVENT
DTSTART;TZID=Europe/Berlin:20261119T180000
DTEND;TZID=Europe/Berlin:20261119T203000
DTSTAMP:20260422T132251
CREATED:20251029T151723Z
LAST-MODIFIED:20251029T151723Z
UID:10006760-1795111200-1795120200@www.fahrschule-alkoven.at
SUMMARY:Auto Kursende
DESCRIPTION:4 Wochen – Kurs
URL:https://www.fahrschule-alkoven.at/event/auto-kursende-16/
LOCATION:Fahrschule Alkoven\, Hochfeldstraße 1\, Alkoven\, 4072
CATEGORIES:Auto
END:VEVENT
BEGIN:VEVENT
DTSTART;VALUE=DATE:20261125
DTEND;VALUE=DATE:20261126
DTSTAMP:20260422T132251
CREATED:20250226T095454Z
LAST-MODIFIED:20250313T073346Z
UID:10005380-1795564800-1795651199@www.fahrschule-alkoven.at
SUMMARY:Praxis Prüfungstermin
DESCRIPTION:
URL:https://www.fahrschule-alkoven.at/event/pruefungstermin-praxis-2/2026-11-25/
CATEGORIES:Prüfungstermin Praxis
END:VEVENT
BEGIN:VEVENT
DTSTART;VALUE=DATE:20261209
DTEND;VALUE=DATE:20261210
DTSTAMP:20260422T132251
CREATED:20250226T095454Z
LAST-MODIFIED:20250313T073346Z
UID:10005381-1796774400-1796860799@www.fahrschule-alkoven.at
SUMMARY:Praxis Prüfungstermin
DESCRIPTION:
URL:https://www.fahrschule-alkoven.at/event/pruefungstermin-praxis-2/2026-12-09/
CATEGORIES:Prüfungstermin Praxis
END:VEVENT
BEGIN:VEVENT
DTSTART;TZID=Europe/Berlin:20261214T180000
DTEND;TZID=Europe/Berlin:20261214T203000
DTSTAMP:20260422T132251
CREATED:20251029T152539Z
LAST-MODIFIED:20251029T152539Z
UID:10006763-1797271200-1797280200@www.fahrschule-alkoven.at
SUMMARY:Auto - Kursstart
DESCRIPTION:Weihnacht – Schnellkurs
URL:https://www.fahrschule-alkoven.at/event/auto-kursstart-13/
CATEGORIES:Auto
END:VEVENT
BEGIN:VEVENT
DTSTART;TZID=Europe/Berlin:20261215T180000
DTEND;TZID=Europe/Berlin:20261215T203000
DTSTAMP:20260422T132251
CREATED:20251029T153005Z
LAST-MODIFIED:20251029T153005Z
UID:10006764-1797357600-1797366600@www.fahrschule-alkoven.at
SUMMARY:Auto
DESCRIPTION:Weihnacht – Schnellkurs
URL:https://www.fahrschule-alkoven.at/event/auto-68/2026-12-15/
CATEGORIES:Auto
END:VEVENT
BEGIN:VEVENT
DTSTART;TZID=Europe/Berlin:20261216T180000
DTEND;TZID=Europe/Berlin:20261216T203000
DTSTAMP:20260422T132251
CREATED:20251029T153005Z
LAST-MODIFIED:20251029T153005Z
UID:10006765-1797444000-1797453000@www.fahrschule-alkoven.at
SUMMARY:Auto
DESCRIPTION:Weihnacht – Schnellkurs
URL:https://www.fahrschule-alkoven.at/event/auto-68/2026-12-16/
CATEGORIES:Auto
END:VEVENT
BEGIN:VEVENT
DTSTART;TZID=Europe/Berlin:20261217T180000
DTEND;TZID=Europe/Berlin:20261217T203000
DTSTAMP:20260422T132251
CREATED:20251029T153005Z
LAST-MODIFIED:20251029T153005Z
UID:10006766-1797530400-1797539400@www.fahrschule-alkoven.at
SUMMARY:Auto
DESCRIPTION:Weihnacht – Schnellkurs
URL:https://www.fahrschule-alkoven.at/event/auto-68/2026-12-17/
CATEGORIES:Auto
END:VEVENT
BEGIN:VEVENT
DTSTART;TZID=Europe/Berlin:20261221T180000
DTEND;TZID=Europe/Berlin:20261221T203000
DTSTAMP:20260422T132251
CREATED:20251029T153005Z
LAST-MODIFIED:20251029T153005Z
UID:10006767-1797876000-1797885000@www.fahrschule-alkoven.at
SUMMARY:Auto
DESCRIPTION:Weihnacht – Schnellkurs
URL:https://www.fahrschule-alkoven.at/event/auto-68/2026-12-21/
CATEGORIES:Auto
END:VEVENT
BEGIN:VEVENT
DTSTART;TZID=Europe/Berlin:20261222T180000
DTEND;TZID=Europe/Berlin:20261222T203000
DTSTAMP:20260422T132251
CREATED:20251029T153005Z
LAST-MODIFIED:20251029T153005Z
UID:10006768-1797962400-1797971400@www.fahrschule-alkoven.at
SUMMARY:Auto
DESCRIPTION:Weihnacht – Schnellkurs
URL:https://www.fahrschule-alkoven.at/event/auto-68/2026-12-22/
CATEGORIES:Auto
END:VEVENT
BEGIN:VEVENT
DTSTART;VALUE=DATE:20261223
DTEND;VALUE=DATE:20261224
DTSTAMP:20260422T132251
CREATED:20250226T095454Z
LAST-MODIFIED:20250313T073346Z
UID:10005382-1797984000-1798070399@www.fahrschule-alkoven.at
SUMMARY:Praxis Prüfungstermin
DESCRIPTION:
URL:https://www.fahrschule-alkoven.at/event/pruefungstermin-praxis-2/2026-12-23/
CATEGORIES:Prüfungstermin Praxis
END:VEVENT
BEGIN:VEVENT
DTSTART;TZID=Europe/Berlin:20261223T180000
DTEND;TZID=Europe/Berlin:20261223T194000
DTSTAMP:20260422T132251
CREATED:20251029T153005Z
LAST-MODIFIED:20251029T153005Z
UID:10006769-1798048800-1798054800@www.fahrschule-alkoven.at
SUMMARY:Auto
DESCRIPTION:Weihnacht – Schnellkurs
URL:https://www.fahrschule-alkoven.at/event/auto-68/2026-12-23/
CATEGORIES:Auto
END:VEVENT
BEGIN:VEVENT
DTSTART;VALUE=DATE:20261224
DTEND;VALUE=DATE:20261225
DTSTAMP:20260422T132251
CREATED:20251029T155240Z
LAST-MODIFIED:20251029T155240Z
UID:10006778-1798070400-1798156799@www.fahrschule-alkoven.at
SUMMARY:Geschlossen
DESCRIPTION:Weihnachten \n 
URL:https://www.fahrschule-alkoven.at/event/geschlossen-20/2026-12-24/
LOCATION:Fahrschule Alkoven\, Hochfeldstraße 1\, Alkoven\, 4072
CATEGORIES:GESCHLOSSEN
END:VEVENT
END:VCALENDAR